BEGIN:VCALENDAR
VERSION:2.0
PRODID:-//NJBDA - New Jersey Big Data Alliance - ECPv6.15.20//NONSGML v1.0//EN
CALSCALE:GREGORIAN
METHOD:PUBLISH
X-WR-CALNAME:NJBDA - New Jersey Big Data Alliance
X-ORIGINAL-URL:https://njbda.org
X-WR-CALDESC:Events for NJBDA - New Jersey Big Data Alliance
REFRESH-INTERVAL;VALUE=DURATION:PT1H
X-Robots-Tag:noindex
X-PUBLISHED-TTL:PT1H
BEGIN:VTIMEZONE
TZID:America/New_York
BEGIN:DAYLIGHT
TZOFFSETFROM:-0500
TZOFFSETTO:-0400
TZNAME:EDT
DTSTART:20200308T070000
END:DAYLIGHT
BEGIN:STANDARD
TZOFFSETFROM:-0400
TZOFFSETTO:-0500
TZNAME:EST
DTSTART:20201101T060000
END:STANDARD
BEGIN:DAYLIGHT
TZOFFSETFROM:-0500
TZOFFSETTO:-0400
TZNAME:EDT
DTSTART:20210314T070000
END:DAYLIGHT
BEGIN:STANDARD
TZOFFSETFROM:-0400
TZOFFSETTO:-0500
TZNAME:EST
DTSTART:20211107T060000
END:STANDARD
BEGIN:DAYLIGHT
TZOFFSETFROM:-0500
TZOFFSETTO:-0400
TZNAME:EDT
DTSTART:20220313T070000
END:DAYLIGHT
BEGIN:STANDARD
TZOFFSETFROM:-0400
TZOFFSETTO:-0500
TZNAME:EST
DTSTART:20221106T060000
END:STANDARD
END:VTIMEZONE
BEGIN:VEVENT
DTSTART;TZID=America/New_York:20210129T170000
DTEND;TZID=America/New_York:20210129T170000
DTSTAMP:20260422T173405
CREATED:20210112T204900Z
LAST-MODIFIED:20210112T205630Z
UID:609-1611939600-1611939600@njbda.org
SUMMARY:Rutgers MBS Externship deadline
DESCRIPTION:Externships are opportunities for students to gain real-world experience in their field. Externships through this partner program are provided by the Rutgers Masters of Business and Science (MBS) Externship Exchange Program and the NJBDA via a grant from the US Economic Development Administration (US-EDA). Upon successful completion students are eligible for a $2\,000 fellowship. \nApplication deadline is January 29\, 2021 at 5:00pm EST. \nLearn more at the Rutgers MBS-NJBDA Joint Externship Exchange Program page. \n 
URL:https://njbda.org/event/rutgers-mbs-externship-deadline-jan-29/
LOCATION:New Jersey
END:VEVENT
END:VCALENDAR