BEGIN:VCALENDAR
VERSION:2.0
PRODID:-//NJBDA - New Jersey Big Data Alliance - ECPv6.15.20//NONSGML v1.0//EN
CALSCALE:GREGORIAN
METHOD:PUBLISH
X-WR-CALNAME:NJBDA - New Jersey Big Data Alliance
X-ORIGINAL-URL:https://njbda.org
X-WR-CALDESC:Events for NJBDA - New Jersey Big Data Alliance
REFRESH-INTERVAL;VALUE=DURATION:PT1H
X-Robots-Tag:noindex
X-PUBLISHED-TTL:PT1H
BEGIN:VTIMEZONE
TZID:America/New_York
BEGIN:DAYLIGHT
TZOFFSETFROM:-0500
TZOFFSETTO:-0400
TZNAME:EDT
DTSTART:20210314T070000
END:DAYLIGHT
BEGIN:STANDARD
TZOFFSETFROM:-0400
TZOFFSETTO:-0500
TZNAME:EST
DTSTART:20211107T060000
END:STANDARD
BEGIN:DAYLIGHT
TZOFFSETFROM:-0500
TZOFFSETTO:-0400
TZNAME:EDT
DTSTART:20220313T070000
END:DAYLIGHT
BEGIN:STANDARD
TZOFFSETFROM:-0400
TZOFFSETTO:-0500
TZNAME:EST
DTSTART:20221106T060000
END:STANDARD
BEGIN:DAYLIGHT
TZOFFSETFROM:-0500
TZOFFSETTO:-0400
TZNAME:EDT
DTSTART:20230312T070000
END:DAYLIGHT
BEGIN:STANDARD
TZOFFSETFROM:-0400
TZOFFSETTO:-0500
TZNAME:EST
DTSTART:20231105T060000
END:STANDARD
END:VTIMEZONE
BEGIN:VEVENT
DTSTART;TZID=America/New_York:20221019T190000
DTEND;TZID=America/New_York:20221019T203000
DTSTAMP:20260421T032932
CREATED:20220926T212038Z
LAST-MODIFIED:20221102T184339Z
UID:1622-1666206000-1666211400@njbda.org
SUMMARY:Open Data for Society: Accelerating Solutions for Society’s Most Pressing Challenges
DESCRIPTION:WATCH RECORDING \n\n\n\nREGISTER \n\n\n\nIntelligent Informatics @ Bloustein Workshop and Seminar Series \n\n\n\nThe event is hosted by the Rutgers Urban & Civic Informatics (RUCI) Lab\, in collaboration with our partners\, New Jersey State Policy Lab\, OARC – Rutgers University\, the Ecosystem for Research Networking (ERN)\, the Northeast Big Data Innovation Hub – NSDC\, and the New Jersey Big Data Alliance (NJBDA). \n\n\n\nThis virtual workshop will consist of presentations followed by a hands-on demo\, and end with Q&A.  \n\n\n\nWe welcome our distinguished speakers Anthony Cintron Roman and Lucas A Meyer from the AI for Good Lab @ Microsoft! \n\n\n\nAnthony Cintron Roman is currently the Director of Data Architecture & Strategy with the AI for Good Lab at Microsoft\, where he works with a team of data engineers\, data scientists and researchers in Machine Learning and data science-based projects across Microsoft AI for Good efforts. He specializes in cloud solution architecture and open innovation and has a B.S in computer science and an M.B.A with a specialty in the management of information systems. \n\n\n\nLucas A. Meyer is the Principal Data Scientist with the AI for Good Lab at Microsoft\, and he specializes in models to promote economic development and detect financial misconduct. Lucas also worked in fraud detection at Amazon\, and has an M.Sc. and an MBA from the University of Washington. \n\n\n\nProf. Jim Samuel\, Director of the Master of Public Informatics (MPI) program at Bloustein\, will provide closing comments on the potential societal implications of combining artificial intelligence and open data. \n\n\n\n10192022-IntelligentInformaticsEJBDownload
URL:https://njbda.org/event/open-data-for-society-accelerating-solutions-for-societys-most-pressing-challenges/
LOCATION:New Jersey
ATTACH;FMTTYPE=image/jpeg:https://njbda.org/wp-content/uploads/2022/09/Informatics_MPI_Slides.jpg
END:VEVENT
END:VCALENDAR