BEGIN:VCALENDAR
VERSION:2.0
PRODID:-//NJBDA - New Jersey Big Data Alliance - ECPv6.15.20//NONSGML v1.0//EN
CALSCALE:GREGORIAN
METHOD:PUBLISH
X-ORIGINAL-URL:https://njbda.org
X-WR-CALDESC:Events for NJBDA - New Jersey Big Data Alliance
REFRESH-INTERVAL;VALUE=DURATION:PT1H
X-Robots-Tag:noindex
X-PUBLISHED-TTL:PT1H
BEGIN:VTIMEZONE
TZID:America/New_York
BEGIN:DAYLIGHT
TZOFFSETFROM:-0500
TZOFFSETTO:-0400
TZNAME:EDT
DTSTART:20210314T070000
END:DAYLIGHT
BEGIN:STANDARD
TZOFFSETFROM:-0400
TZOFFSETTO:-0500
TZNAME:EST
DTSTART:20211107T060000
END:STANDARD
BEGIN:DAYLIGHT
TZOFFSETFROM:-0500
TZOFFSETTO:-0400
TZNAME:EDT
DTSTART:20220313T070000
END:DAYLIGHT
BEGIN:STANDARD
TZOFFSETFROM:-0400
TZOFFSETTO:-0500
TZNAME:EST
DTSTART:20221106T060000
END:STANDARD
BEGIN:DAYLIGHT
TZOFFSETFROM:-0500
TZOFFSETTO:-0400
TZNAME:EDT
DTSTART:20230312T070000
END:DAYLIGHT
BEGIN:STANDARD
TZOFFSETFROM:-0400
TZOFFSETTO:-0500
TZNAME:EST
DTSTART:20231105T060000
END:STANDARD
END:VTIMEZONE
BEGIN:VEVENT
DTSTART;TZID=America/New_York:20221116T093000
DTEND;TZID=America/New_York:20221116T130000
DTSTAMP:20260421T020731
CREATED:20221110T042715Z
LAST-MODIFIED:20221110T042718Z
UID:1658-1668591000-1668603600@njbda.org
SUMMARY:In-Person November Technology & Innovation Collaborative Meeting (AM)
DESCRIPTION:Participate in the Center of Workforce Innovation for Data Science Report Out and Pathways Overviews \n\n\n\nPlease join us for the In-Person November NJ Pathways to Career Opportunities Technology & Innovation Collaborative Meeting. \n\n\n\nParticipate in the Center of Workforce Innovation for Data Science Report Out\, recieve information on Data Science programs at County College of Morris and Camden County College\, and engage with industry expects during a Data Science Industry Panel.   \n\n\n\nMeeting Details: \n\n\n\n\nWednesday\, November 16\, 2022 | 10 AM to 1 PM\n\n\n\nRegistration and Coffee Service begins at 9:30 AM\n\n\n\nCounty College of Morris | Meeting Room TBD (214 Center Grove Rd. Randolph\, NJ 07869)\n\n\n\nNetworking Lunch from 12 PM to 1 PM\n\n\n\n\nSeating is limited so please register as soon as possible to reserve your spot. \n\n\n\nNew Jersey’s Community Colleges and the New Jersey Business and Industry Association have joined together for this unprecedented statewide Pathways initiative with employers\, industry associations\, chambers of commerce\, labor unions\, education institutions\, and workforce development partners. 
URL:https://njbda.org/event/in-person-november-technology-innovation-collaborative-meeting-am/
LOCATION:County College of Morris\, 675 New Jersey 10\, Randolph\, New Jersey\, 07869
CATEGORIES:meeting
ATTACH;FMTTYPE=image/png:https://njbda.org/wp-content/uploads/2022/11/Screen-Shot-2022-11-09-at-11.25.43-PM.png
END:VEVENT
END:VCALENDAR