BEGIN:VCALENDAR
VERSION:2.0
PRODID:-//NJBDA - New Jersey Big Data Alliance - ECPv6.15.20//NONSGML v1.0//EN
CALSCALE:GREGORIAN
METHOD:PUBLISH
X-ORIGINAL-URL:https://njbda.org
X-WR-CALDESC:Events for NJBDA - New Jersey Big Data Alliance
REFRESH-INTERVAL;VALUE=DURATION:PT1H
X-Robots-Tag:noindex
X-PUBLISHED-TTL:PT1H
BEGIN:VTIMEZONE
TZID:America/New_York
BEGIN:DAYLIGHT
TZOFFSETFROM:-0500
TZOFFSETTO:-0400
TZNAME:EDT
DTSTART:20220313T070000
END:DAYLIGHT
BEGIN:STANDARD
TZOFFSETFROM:-0400
TZOFFSETTO:-0500
TZNAME:EST
DTSTART:20221106T060000
END:STANDARD
BEGIN:DAYLIGHT
TZOFFSETFROM:-0500
TZOFFSETTO:-0400
TZNAME:EDT
DTSTART:20230312T070000
END:DAYLIGHT
BEGIN:STANDARD
TZOFFSETFROM:-0400
TZOFFSETTO:-0500
TZNAME:EST
DTSTART:20231105T060000
END:STANDARD
BEGIN:DAYLIGHT
TZOFFSETFROM:-0500
TZOFFSETTO:-0400
TZNAME:EDT
DTSTART:20240310T070000
END:DAYLIGHT
BEGIN:STANDARD
TZOFFSETFROM:-0400
TZOFFSETTO:-0500
TZNAME:EST
DTSTART:20241103T060000
END:STANDARD
END:VTIMEZONE
BEGIN:VEVENT
DTSTART;TZID=America/New_York:20230418T100000
DTEND;TZID=America/New_York:20230418T130000
DTSTAMP:20260420T182032
CREATED:20230311T150608Z
LAST-MODIFIED:20230406T132409Z
UID:1825-1681812000-1681822800@njbda.org
SUMMARY:Collaboration for Articulation Agreements
DESCRIPTION:The NJ Pathways to Career Opportunities Initiative and New Jersey’s Big Data Alliance are partnering to bring together New Jersey’s Community Colleges and 4-Year Colleges and Universities to expand articulation agreements. This convening will be an opportunity for the institutions of higher education to develop more collaborative relationships and increase the number of articulation agreements between them. \n\n\n\nLearn about the NJ Pathways Initiative and its emphasis on Data Science\, and learn how articulation agreements in Data Science have worked between other New Jersey institutions. \n\n\n\nPlease register as soon as possible to reserve your seat.  \n\n\n\nMeeting Details: \n\n\n\n\nDate: Tuesday\, April 18\, 2023\n\n\n\nTime: 10:00 AM to 1:00 PM (lunch served)\n\n\n\nLocation: Middlesex College | Crabiel Hall\, Brunswick Room\n\n\n\n\nSeating is limited so please register as soon as possible to reserve your spot. \n\n\n\nRegistration begins at 9:30 AM. Networking lunch served at 12 PM.  \n\n\n\nDownload flyer (PDF)
URL:https://njbda.org/event/collaboration-for-articulation-agreements/
LOCATION:Middlesex College\, Crabiel Hall\, Brunswick Room\, 2600 Woodbridge Avenue\, Edison\, New Jersey\, 08818-3050\, United States
CATEGORIES:forum/panel discussion,meeting
ATTACH;FMTTYPE=image/png:https://njbda.org/wp-content/uploads/2023/03/collaboration-for-articulation.png
END:VEVENT
END:VCALENDAR