BEGIN:VCALENDAR
VERSION:2.0
PRODID:-//NJBDA - New Jersey Big Data Alliance - ECPv6.15.20//NONSGML v1.0//EN
CALSCALE:GREGORIAN
METHOD:PUBLISH
X-WR-CALNAME:NJBDA - New Jersey Big Data Alliance
X-ORIGINAL-URL:https://njbda.org
X-WR-CALDESC:Events for NJBDA - New Jersey Big Data Alliance
REFRESH-INTERVAL;VALUE=DURATION:PT1H
X-Robots-Tag:noindex
X-PUBLISHED-TTL:PT1H
BEGIN:VTIMEZONE
TZID:America/New_York
BEGIN:DAYLIGHT
TZOFFSETFROM:-0500
TZOFFSETTO:-0400
TZNAME:EDT
DTSTART:20230312T070000
END:DAYLIGHT
BEGIN:STANDARD
TZOFFSETFROM:-0400
TZOFFSETTO:-0500
TZNAME:EST
DTSTART:20231105T060000
END:STANDARD
BEGIN:DAYLIGHT
TZOFFSETFROM:-0500
TZOFFSETTO:-0400
TZNAME:EDT
DTSTART:20240310T070000
END:DAYLIGHT
BEGIN:STANDARD
TZOFFSETFROM:-0400
TZOFFSETTO:-0500
TZNAME:EST
DTSTART:20241103T060000
END:STANDARD
BEGIN:DAYLIGHT
TZOFFSETFROM:-0500
TZOFFSETTO:-0400
TZNAME:EDT
DTSTART:20250309T070000
END:DAYLIGHT
BEGIN:STANDARD
TZOFFSETFROM:-0400
TZOFFSETTO:-0500
TZNAME:EST
DTSTART:20251102T060000
END:STANDARD
END:VTIMEZONE
BEGIN:VEVENT
DTSTART;TZID=America/New_York:20240212T110000
DTEND;TZID=America/New_York:20240212T115000
DTSTAMP:20260420T033115
CREATED:20240209T141031Z
LAST-MODIFIED:20240209T142439Z
UID:2332-1707735600-1707738600@njbda.org
SUMMARY:Performance Engineering for Scalable AI
DESCRIPTION:Speaker: Xuhao Chen\, Research Scientist\, MIT CSAIL\n\n\n\nHosted by Stevens Institute of Technology \n\n\n\nLocation: Gateway North 303 (with virtual option)\n\n\n\nABSTRACT\n\n\n\nDue to massive size\, complex algorithms and irregular data structures\, AI applications are expensive and hard to scale\, which poses great challenges in computing system design. \n\n\n\nIn this talk\, I will discuss my approach called cross-stack performance engineering\, to address this challenge. I will describe software and hardware system design principles\, optimization techniques and automation methodologies\, across different layers of the system stack. I will show promising results to demonstrate that this cross-stack approach is effective to make AI scalable. \n\n\n\nBIOGRAPHY\n\n\n\nXuhao Chen is a Research Scientist at MIT CSAIL. Dr. Chen is broadly interested in parallel systems and architectures\, with a focus on AI and big-data applications. His recent work aims to make AI scalable by designing efficient algorithms\, software systems and hardware accelerators. His work has been published in OSDI\, ISCA\, MICRO\, VLDB\, ICS\, etc. \n\n\n\nZoom link: https://stevens.zoom.us/j/91365277622
URL:https://njbda.org/event/performance-engineering-for-scalable-ai/
LOCATION:Gateway Academic Center\, 6th Street Lot\, 601 Hudson St\, Hoboken\, New Jersey\, 07030\, United States
CATEGORIES:lectures/talks
ATTACH;FMTTYPE=image/jpeg:https://njbda.org/wp-content/uploads/2024/02/microchips.jpeg
END:VEVENT
END:VCALENDAR