BEGIN:VCALENDAR
VERSION:2.0
PRODID:-//NJBDA - New Jersey Big Data Alliance - ECPv6.15.20//NONSGML v1.0//EN
CALSCALE:GREGORIAN
METHOD:PUBLISH
X-ORIGINAL-URL:https://njbda.org
X-WR-CALDESC:Events for NJBDA - New Jersey Big Data Alliance
REFRESH-INTERVAL;VALUE=DURATION:PT1H
X-Robots-Tag:noindex
X-PUBLISHED-TTL:PT1H
BEGIN:VTIMEZONE
TZID:America/New_York
BEGIN:DAYLIGHT
TZOFFSETFROM:-0500
TZOFFSETTO:-0400
TZNAME:EDT
DTSTART:20230312T070000
END:DAYLIGHT
BEGIN:STANDARD
TZOFFSETFROM:-0400
TZOFFSETTO:-0500
TZNAME:EST
DTSTART:20231105T060000
END:STANDARD
BEGIN:DAYLIGHT
TZOFFSETFROM:-0500
TZOFFSETTO:-0400
TZNAME:EDT
DTSTART:20240310T070000
END:DAYLIGHT
BEGIN:STANDARD
TZOFFSETFROM:-0400
TZOFFSETTO:-0500
TZNAME:EST
DTSTART:20241103T060000
END:STANDARD
BEGIN:DAYLIGHT
TZOFFSETFROM:-0500
TZOFFSETTO:-0400
TZNAME:EDT
DTSTART:20250309T070000
END:DAYLIGHT
BEGIN:STANDARD
TZOFFSETFROM:-0400
TZOFFSETTO:-0500
TZNAME:EST
DTSTART:20251102T060000
END:STANDARD
END:VTIMEZONE
BEGIN:VEVENT
DTSTART;TZID=America/New_York:20240320T180000
DTEND;TZID=America/New_York:20240320T183000
DTSTAMP:20260420T020004
CREATED:20240315T155707Z
LAST-MODIFIED:20240315T174122Z
UID:2416-1710957600-1710959400@njbda.org
SUMMARY:AI - Use\, Abuse & an Exciting Future!
DESCRIPTION:Rutgers Bloustein School MPI program will be hosting an interesting webinar on AI – Use\, Abuse & an Exciting Future!  \n\n\n\nJoin us for an interactive presentation on Wednesday 6 PM\, 3/20/2024 by Bloustein AI course participants Alexandra Behette\, Médora Benson\, Md. Nurul Hoque\, Prajwal Nagendra\, Sahar Sherwani\, Seongeun Cho\, Beauty Okunbor\, and Anish Gupta with faculty expert\, Professor Jim Samuel. \n\n\n\nSpecial thanks to Pawel M.\, AI Social Impact Lab for leading this initiative! \n\n\n\n\n\n\n\nLearn more about the event.  \n\n\n\nMPI Program info: https://informatics.rutgers.edu/
URL:https://njbda.org/event/ai-use-abuse-an-exciting-future/
LOCATION:Zoom
CATEGORIES:forum/panel discussion
ATTACH;FMTTYPE=image/jpeg:https://njbda.org/wp-content/uploads/2024/03/bloustein-ai.jpg
END:VEVENT
END:VCALENDAR