BEGIN:VCALENDAR
VERSION:2.0
PRODID:-//NJBDA - New Jersey Big Data Alliance - ECPv6.15.20//NONSGML v1.0//EN
CALSCALE:GREGORIAN
METHOD:PUBLISH
X-WR-CALNAME:NJBDA - New Jersey Big Data Alliance
X-ORIGINAL-URL:https://njbda.org
X-WR-CALDESC:Events for NJBDA - New Jersey Big Data Alliance
REFRESH-INTERVAL;VALUE=DURATION:PT1H
X-Robots-Tag:noindex
X-PUBLISHED-TTL:PT1H
BEGIN:VTIMEZONE
TZID:America/New_York
BEGIN:DAYLIGHT
TZOFFSETFROM:-0500
TZOFFSETTO:-0400
TZNAME:EDT
DTSTART:20230312T070000
END:DAYLIGHT
BEGIN:STANDARD
TZOFFSETFROM:-0400
TZOFFSETTO:-0500
TZNAME:EST
DTSTART:20231105T060000
END:STANDARD
BEGIN:DAYLIGHT
TZOFFSETFROM:-0500
TZOFFSETTO:-0400
TZNAME:EDT
DTSTART:20240310T070000
END:DAYLIGHT
BEGIN:STANDARD
TZOFFSETFROM:-0400
TZOFFSETTO:-0500
TZNAME:EST
DTSTART:20241103T060000
END:STANDARD
BEGIN:DAYLIGHT
TZOFFSETFROM:-0500
TZOFFSETTO:-0400
TZNAME:EDT
DTSTART:20250309T070000
END:DAYLIGHT
BEGIN:STANDARD
TZOFFSETFROM:-0400
TZOFFSETTO:-0500
TZNAME:EST
DTSTART:20251102T060000
END:STANDARD
END:VTIMEZONE
BEGIN:VEVENT
DTSTART;TZID=America/New_York:20240611T080000
DTEND;TZID=America/New_York:20240611T170000
DTSTAMP:20260419T205654
CREATED:20240606T182121Z
LAST-MODIFIED:20240606T182308Z
UID:2687-1718092800-1718125200@njbda.org
SUMMARY:AI Teaching & Learning Symposium
DESCRIPTION:Join Edge and Seton Hall University for the inaugural “AI Teaching & Learning Symposium”. The symposium will consider the impact of AI on teaching\, learning\, and the student experience. Located in the quaint town of South Orange\, New Jersey\, the 58-acre main campus is only 14 miles from Manhattan.
URL:https://njbda.org/event/ai-teaching-learning-symposium/
LOCATION:Seton Hall University
CATEGORIES:conference
ATTACH;FMTTYPE=image/png:https://njbda.org/wp-content/uploads/2024/06/Screenshot-2024-06-06-at-2.21.56-PM.png
END:VEVENT
END:VCALENDAR