BEGIN:VCALENDAR
VERSION:2.0
PRODID:-//NJBDA - New Jersey Big Data Alliance - ECPv6.15.20//NONSGML v1.0//EN
CALSCALE:GREGORIAN
METHOD:PUBLISH
X-ORIGINAL-URL:https://njbda.org
X-WR-CALDESC:Events for NJBDA - New Jersey Big Data Alliance
REFRESH-INTERVAL;VALUE=DURATION:PT1H
X-Robots-Tag:noindex
X-PUBLISHED-TTL:PT1H
BEGIN:VTIMEZONE
TZID:America/New_York
BEGIN:DAYLIGHT
TZOFFSETFROM:-0500
TZOFFSETTO:-0400
TZNAME:EDT
DTSTART:20230312T070000
END:DAYLIGHT
BEGIN:STANDARD
TZOFFSETFROM:-0400
TZOFFSETTO:-0500
TZNAME:EST
DTSTART:20231105T060000
END:STANDARD
BEGIN:DAYLIGHT
TZOFFSETFROM:-0500
TZOFFSETTO:-0400
TZNAME:EDT
DTSTART:20240310T070000
END:DAYLIGHT
BEGIN:STANDARD
TZOFFSETFROM:-0400
TZOFFSETTO:-0500
TZNAME:EST
DTSTART:20241103T060000
END:STANDARD
BEGIN:DAYLIGHT
TZOFFSETFROM:-0500
TZOFFSETTO:-0400
TZNAME:EDT
DTSTART:20250309T070000
END:DAYLIGHT
BEGIN:STANDARD
TZOFFSETFROM:-0400
TZOFFSETTO:-0500
TZNAME:EST
DTSTART:20251102T060000
END:STANDARD
END:VTIMEZONE
BEGIN:VEVENT
DTSTART;TZID=America/New_York:20241010T083000
DTEND;TZID=America/New_York:20241010T130000
DTSTAMP:20260419T150434
CREATED:20241008T152810Z
LAST-MODIFIED:20241008T152814Z
UID:2797-1728549000-1728565200@njbda.org
SUMMARY:2024 Business Summit
DESCRIPTION:Register to attend the 2024 Business Summit! This premier event brings together visionary business leaders\, entrepreneurs\, advisors\, and government officials under one roof. This year’s theme\, “Innovate to Elevate: Shaping Tomorrow’s Business Landscape\,” promises to deliver insights to drive your business forward. \n\n\n\nSpeakers: Nayan Dalal\, TLI Home; John DelliSanti\, Sampled; Tasha Youngblood Brown\, Ernst & Young \n\n\n\nWhy attend? \n\n\n\n\nNetwork with peers\n\n\n\nBuild valuable relationships\n\n\n\nHear from the “front lines”\n\n\n\nUnderstand and capitalize on market trends\n\n\n\nDiscuss best practices
URL:https://njbda.org/event/2024-business-summit/
LOCATION:New Jersey
CATEGORIES:meeting,networking
ATTACH;FMTTYPE=image/jpeg:https://njbda.org/wp-content/uploads/2024/10/middlesex-business-summit.jpeg
END:VEVENT
BEGIN:VEVENT
DTSTART;TZID=America/New_York:20241010T090000
DTEND;TZID=America/New_York:20241010T170000
DTSTAMP:20260419T150434
CREATED:20241008T160037Z
LAST-MODIFIED:20241008T172240Z
UID:2807-1728550800-1728579600@njbda.org
SUMMARY:EdgeCon 2024
DESCRIPTION:EdgeCon Autumn 2024 Keynote Panel \n\n\n\nBlueprints for Success: Uniting Strategy and Innovation in Higher Education\n\n\n\nThis keynote panel discussion delves into how higher education institutions\, from research-intensive universities to community colleges\, can achieve sustained success by uniting strategy and innovation through enterprise architecture. Regardless of your institution’s unique challenges—whether it’s optimizing operational efficiency\, enhancing student success\, or aligning resources with strategic priorities—collaboration across the entire institution is key. Our panel of experts will demonstrate how a well-integrated approach to technology and strategic planning can align every facet of your institution\, from leadership to front-line staff\, driving progress toward your institutional mission. Discover how to leverage enterprise architecture to foster a culture of collaboration\, streamline operations\, and propel your institution toward enduring excellence in a dynamic educational landscape. \n\n\n\nModerator: \n\n\n\n\nEd Wozencroft\, Vice President for Digital Strategy\, Chief Digital Officer\, and CIO\, New Jersey Institute of Technology\n\n\n\n\nPanelists \n\n\n\n\nMark Sedlock\, Vice President and Chief Technology Officer\, Rowan University\n\n\n\nHenry Pruitt\, Enterprise Architect\, NYU\n\n\n\nChristopher Markham\, Executive Vice President\, Edge
URL:https://njbda.org/event/edgecon-2024/
LOCATION:Kean University\, 1000 Morris Avenue\, Union\, New Jersey\, 07083\, United States
ATTACH;FMTTYPE=image/jpeg:https://njbda.org/wp-content/uploads/2024/10/EdgeCon2024.jpg
END:VEVENT
END:VCALENDAR