BEGIN:VCALENDAR
VERSION:2.0
PRODID:-//NJBDA - New Jersey Big Data Alliance - ECPv6.15.20//NONSGML v1.0//EN
CALSCALE:GREGORIAN
METHOD:PUBLISH
X-ORIGINAL-URL:https://njbda.org
X-WR-CALDESC:Events for NJBDA - New Jersey Big Data Alliance
REFRESH-INTERVAL;VALUE=DURATION:PT1H
X-Robots-Tag:noindex
X-PUBLISHED-TTL:PT1H
BEGIN:VTIMEZONE
TZID:America/New_York
BEGIN:DAYLIGHT
TZOFFSETFROM:-0500
TZOFFSETTO:-0400
TZNAME:EDT
DTSTART:20230312T070000
END:DAYLIGHT
BEGIN:STANDARD
TZOFFSETFROM:-0400
TZOFFSETTO:-0500
TZNAME:EST
DTSTART:20231105T060000
END:STANDARD
BEGIN:DAYLIGHT
TZOFFSETFROM:-0500
TZOFFSETTO:-0400
TZNAME:EDT
DTSTART:20240310T070000
END:DAYLIGHT
BEGIN:STANDARD
TZOFFSETFROM:-0400
TZOFFSETTO:-0500
TZNAME:EST
DTSTART:20241103T060000
END:STANDARD
BEGIN:DAYLIGHT
TZOFFSETFROM:-0500
TZOFFSETTO:-0400
TZNAME:EDT
DTSTART:20250309T070000
END:DAYLIGHT
BEGIN:STANDARD
TZOFFSETFROM:-0400
TZOFFSETTO:-0500
TZNAME:EST
DTSTART:20251102T060000
END:STANDARD
END:VTIMEZONE
BEGIN:VEVENT
DTSTART;TZID=America/New_York:20241011T120000
DTEND;TZID=America/New_York:20241011T130000
DTSTAMP:20260419T150433
CREATED:20241008T153327Z
LAST-MODIFIED:20241008T153331Z
UID:2802-1728648000-1728651600@njbda.org
SUMMARY:NSF I-Corps Information Session
DESCRIPTION:Participating in the NSF I-Corps Northeast Hub programs can provide key benefits to your institution: \n\n\n\nInstitutional Prestige: Participation in I-Corps can boost your institution’s national reputation as a leader in innovation\, further enhancing academic excellence and regional economic development. \n\n\n\nComprehensive Entrepreneurial Training: I-Corps Programs such as Propelus (4-week program)\, Novus (half-day)\, and the Fellowship (matching innovation-minded students from diverse backgrounds to accepted I-Corps Teams) offer tailored training to guide innovators from research to market. These programs provide hands-on experience and support from regional I-Corps activities to National I-Corps initiatives\, unlocking greater funding and resources. \n\n\n\nFunding Opportunities: Your faculty and students will become eligible for NSF funding and broader innovation resources in the innovation ecosystem to further support the commercialization of their research and entrepreneurial efforts. \n\n\n\nProfessional Skills & Career Development: Our programs enhance the employability and career prospects of students and faculty by equipping them with practical skills in translating research into marketable products and services. I-Corps training also provides opportunities for participants to improve professional skills.
URL:https://njbda.org/event/nsf-i-corps-information-session/
LOCATION:Zoom
ATTACH;FMTTYPE=image/png:https://njbda.org/wp-content/uploads/2024/10/I-Corps.png
END:VEVENT
END:VCALENDAR