BEGIN:VCALENDAR
VERSION:2.0
PRODID:-//NJBDA - New Jersey Big Data Alliance - ECPv6.15.20//NONSGML v1.0//EN
CALSCALE:GREGORIAN
METHOD:PUBLISH
X-WR-CALNAME:NJBDA - New Jersey Big Data Alliance
X-ORIGINAL-URL:https://njbda.org
X-WR-CALDESC:Events for NJBDA - New Jersey Big Data Alliance
REFRESH-INTERVAL;VALUE=DURATION:PT1H
X-Robots-Tag:noindex
X-PUBLISHED-TTL:PT1H
BEGIN:VTIMEZONE
TZID:America/New_York
BEGIN:DAYLIGHT
TZOFFSETFROM:-0500
TZOFFSETTO:-0400
TZNAME:EDT
DTSTART:20230312T070000
END:DAYLIGHT
BEGIN:STANDARD
TZOFFSETFROM:-0400
TZOFFSETTO:-0500
TZNAME:EST
DTSTART:20231105T060000
END:STANDARD
BEGIN:DAYLIGHT
TZOFFSETFROM:-0500
TZOFFSETTO:-0400
TZNAME:EDT
DTSTART:20240310T070000
END:DAYLIGHT
BEGIN:STANDARD
TZOFFSETFROM:-0400
TZOFFSETTO:-0500
TZNAME:EST
DTSTART:20241103T060000
END:STANDARD
BEGIN:DAYLIGHT
TZOFFSETFROM:-0500
TZOFFSETTO:-0400
TZNAME:EDT
DTSTART:20250309T070000
END:DAYLIGHT
BEGIN:STANDARD
TZOFFSETFROM:-0400
TZOFFSETTO:-0500
TZNAME:EST
DTSTART:20251102T060000
END:STANDARD
END:VTIMEZONE
BEGIN:VEVENT
DTSTART;TZID=America/New_York:20241022T080000
DTEND;TZID=America/New_York:20241022T084500
DTSTAMP:20260419T150001
CREATED:20241004T205818Z
LAST-MODIFIED:20241004T205824Z
UID:2780-1729584000-1729586700@njbda.org
SUMMARY:Defending HiEd: Proactive Strategies Against Ransomware Threats
DESCRIPTION:In an era where cyber threats loom larger than ever\, higher education institutions find themselves frequent targets of sophisticated ransomware attacks. The question is no longer “if” but “when” an attack will occur. How prepared is your institution to respond and recover? Join us for an enlightening session led by one of Commvault’s top security experts designed specifically for IT and security professionals in the higher education sector. This session will dive deep into the anatomy of modern ransomware attacks\, providing you with a clear understanding of how these threats operate and evolve. During this session\, we will guide you through real-time scenarios demonstrating the early signs of a ransomware attack and the critical steps needed to mitigate damage. Gain insights from a higher education institution to learn how they tackle these challenges. Learn about the latest strategies and technologies that can help detect these threats at an early stage and explore effective measures to prevent a full-scale security meltdown. By the end of this session\, you will gain invaluable insights and practical tools to enhance your institution’s cybersecurity posture. Equip yourself with the knowledge to not only respond to ransomware threats but to proactively manage and prevent them\, ensuring the safety and integrity of your educational environment. Don’t miss this opportunity to transform your approach to cybersecurity and safeguard your institution’s future. \n\n\n\n(This is a session at the Educause Annual Conference\, October 21-23\, San Antonio\, TX.) \n\n\n\nPresenters: Michael Carroll\, VP SLED Sales\, Commvault; Dean Dang\, Director\, Enterprise Applications and Services\, University of Illinois Chicago
URL:https://njbda.org/event/defending-hied-proactive-strategies-against-ransomware-threats/
LOCATION:New Jersey
CATEGORIES:forum/panel discussion
ATTACH;FMTTYPE=image/jpeg:https://njbda.org/wp-content/uploads/2024/10/e24hero.jpeg
END:VEVENT
BEGIN:VEVENT
DTSTART;TZID=America/New_York:20241022T183000
DTEND;TZID=America/New_York:20241022T213000
DTSTAMP:20260419T150001
CREATED:20241008T151715Z
LAST-MODIFIED:20241008T151722Z
UID:2785-1729621800-1729632600@njbda.org
SUMMARY:Uncover a Hidden Gem at Anaqua Garden Bar!
DESCRIPTION:You’re invited to an exclusive evening following the EDUCAUSE Expo Hours! Join SHI\, Apple\, & Commvault at the captivating Anaqua Garden Bar in San Antonio\, TX. You won’t want to miss this unforgettable opportunity to network with the team over unique appetizers\, botanical cocktails\, and tranquil garden views. \n\n\n\nWe look forward to seeing you there! \n\n\n\nRegister now
URL:https://njbda.org/event/uncover-a-hidden-gem-at-anaqua-garden-bar/
LOCATION:Anaqua Garden Bar\, 555 S Alamo St\, San Antonio\, Texas\, 78205\, United States
CATEGORIES:networking
ATTACH;FMTTYPE=image/jpeg:https://njbda.org/wp-content/uploads/2024/10/anaqua-newimages-gallery-02-65d3736c8b068.jpg
END:VEVENT
END:VCALENDAR