BEGIN:VCALENDAR
VERSION:2.0
PRODID:-//NJBDA - New Jersey Big Data Alliance - ECPv6.15.20//NONSGML v1.0//EN
CALSCALE:GREGORIAN
METHOD:PUBLISH
X-WR-CALNAME:NJBDA - New Jersey Big Data Alliance
X-ORIGINAL-URL:https://njbda.org
X-WR-CALDESC:Events for NJBDA - New Jersey Big Data Alliance
REFRESH-INTERVAL;VALUE=DURATION:PT1H
X-Robots-Tag:noindex
X-PUBLISHED-TTL:PT1H
BEGIN:VTIMEZONE
TZID:America/New_York
BEGIN:DAYLIGHT
TZOFFSETFROM:-0500
TZOFFSETTO:-0400
TZNAME:EDT
DTSTART:20230312T070000
END:DAYLIGHT
BEGIN:STANDARD
TZOFFSETFROM:-0400
TZOFFSETTO:-0500
TZNAME:EST
DTSTART:20231105T060000
END:STANDARD
BEGIN:DAYLIGHT
TZOFFSETFROM:-0500
TZOFFSETTO:-0400
TZNAME:EDT
DTSTART:20240310T070000
END:DAYLIGHT
BEGIN:STANDARD
TZOFFSETFROM:-0400
TZOFFSETTO:-0500
TZNAME:EST
DTSTART:20241103T060000
END:STANDARD
BEGIN:DAYLIGHT
TZOFFSETFROM:-0500
TZOFFSETTO:-0400
TZNAME:EDT
DTSTART:20250309T070000
END:DAYLIGHT
BEGIN:STANDARD
TZOFFSETFROM:-0400
TZOFFSETTO:-0500
TZNAME:EST
DTSTART:20251102T060000
END:STANDARD
END:VTIMEZONE
BEGIN:VEVENT
DTSTART;TZID=America/New_York:20241104T080000
DTEND;TZID=America/New_York:20241104T180000
DTSTAMP:20260419T132819
CREATED:20241031T145535Z
LAST-MODIFIED:20241031T145539Z
UID:2830-1730707200-1730743200@njbda.org
SUMMARY:Princeton Symposium on Safe Deployment of Foundation Models in Robotics
DESCRIPTION:Foundation models such as large language models (LLMs) and vision-language models (VLMs) have showcased remarkable capabilities in areas like commonsense reasoning\, planning\, and physical understanding. These advancements have paved the way for applying such models in robotics\, enabling them to perceive their environment\, generate and evaluate potential plans\, and even command low-level actions. However\, the integration of foundation models in robotics also raises significant challenges\, particularly around ensuring the safety and alignment of robotic systems given the black-box nature of these models. This symposium brings together leading experts from both academia and industry to explore the opportunities and challenges of safely incorporating foundation models into robotic systems.
URL:https://njbda.org/event/princeton-symposium-on-safe-deployment-of-foundation-models-in-robotics/
LOCATION:Maeder Hall\, Andlinger Center for Energy and the Environment\, 92 Olden St\, Princeton\, New Jersey\, United States
CATEGORIES:symposium
ATTACH;FMTTYPE=image/webp:https://njbda.org/wp-content/uploads/2024/10/Robotics-Picture.webp
END:VEVENT
END:VCALENDAR