BEGIN:VCALENDAR
VERSION:2.0
PRODID:-//NJBDA - New Jersey Big Data Alliance - ECPv6.15.20//NONSGML v1.0//EN
CALSCALE:GREGORIAN
METHOD:PUBLISH
X-WR-CALNAME:NJBDA - New Jersey Big Data Alliance
X-ORIGINAL-URL:https://njbda.org
X-WR-CALDESC:Events for NJBDA - New Jersey Big Data Alliance
REFRESH-INTERVAL;VALUE=DURATION:PT1H
X-Robots-Tag:noindex
X-PUBLISHED-TTL:PT1H
BEGIN:VTIMEZONE
TZID:America/New_York
BEGIN:DAYLIGHT
TZOFFSETFROM:-0500
TZOFFSETTO:-0400
TZNAME:EDT
DTSTART:20230312T070000
END:DAYLIGHT
BEGIN:STANDARD
TZOFFSETFROM:-0400
TZOFFSETTO:-0500
TZNAME:EST
DTSTART:20231105T060000
END:STANDARD
BEGIN:DAYLIGHT
TZOFFSETFROM:-0500
TZOFFSETTO:-0400
TZNAME:EDT
DTSTART:20240310T070000
END:DAYLIGHT
BEGIN:STANDARD
TZOFFSETFROM:-0400
TZOFFSETTO:-0500
TZNAME:EST
DTSTART:20241103T060000
END:STANDARD
BEGIN:DAYLIGHT
TZOFFSETFROM:-0500
TZOFFSETTO:-0400
TZNAME:EDT
DTSTART:20250309T070000
END:DAYLIGHT
BEGIN:STANDARD
TZOFFSETFROM:-0400
TZOFFSETTO:-0500
TZNAME:EST
DTSTART:20251102T060000
END:STANDARD
END:VTIMEZONE
BEGIN:VEVENT
DTSTART;TZID=America/New_York:20241107T080000
DTEND;TZID=America/New_York:20241107T173000
DTSTAMP:20260419T132803
CREATED:20241031T145032Z
LAST-MODIFIED:20241031T145138Z
UID:2823-1730966400-1731000600@njbda.org
SUMMARY:Data-Driven Precision Health: Integrating Genomics\, Climate\, and the Environment
DESCRIPTION:This conference\, sponsored by Princeton Precision Health\, NOAA’s Geophysical Fluid Dynamics Laboratory\, and the High Meadows Environmental Institute (HMEI) will bring together an interdisciplinary community from academia\, government\, and industry to explore research questions at the intersection of human health\, climate\, and environment. The event aims to spark discussions and inspire new research directions on future health impacts\, with a focus on predicting outcomes and developing equitable risk mitigation strategies. \n\n\n\nRegistration is free but required.
URL:https://njbda.org/event/data-driven-precision-health-integrating-genomics-climate-and-the-environment/
LOCATION:Maeder Hall\, Andlinger Center for Energy and the Environment\, 92 Olden St\, Princeton\, New Jersey\, United States
CATEGORIES:conference
ATTACH;FMTTYPE=image/jpeg:https://njbda.org/wp-content/uploads/2024/10/125159_PPH-Graphic_TS_V7_KD.jpg
END:VEVENT
END:VCALENDAR