BEGIN:VCALENDAR
VERSION:2.0
PRODID:-//NJBDA - New Jersey Big Data Alliance - ECPv6.15.20//NONSGML v1.0//EN
CALSCALE:GREGORIAN
METHOD:PUBLISH
X-ORIGINAL-URL:https://njbda.org
X-WR-CALDESC:Events for NJBDA - New Jersey Big Data Alliance
REFRESH-INTERVAL;VALUE=DURATION:PT1H
X-Robots-Tag:noindex
X-PUBLISHED-TTL:PT1H
BEGIN:VTIMEZONE
TZID:America/New_York
BEGIN:DAYLIGHT
TZOFFSETFROM:-0500
TZOFFSETTO:-0400
TZNAME:EDT
DTSTART:20230312T070000
END:DAYLIGHT
BEGIN:STANDARD
TZOFFSETFROM:-0400
TZOFFSETTO:-0500
TZNAME:EST
DTSTART:20231105T060000
END:STANDARD
BEGIN:DAYLIGHT
TZOFFSETFROM:-0500
TZOFFSETTO:-0400
TZNAME:EDT
DTSTART:20240310T070000
END:DAYLIGHT
BEGIN:STANDARD
TZOFFSETFROM:-0400
TZOFFSETTO:-0500
TZNAME:EST
DTSTART:20241103T060000
END:STANDARD
BEGIN:DAYLIGHT
TZOFFSETFROM:-0500
TZOFFSETTO:-0400
TZNAME:EDT
DTSTART:20250309T070000
END:DAYLIGHT
BEGIN:STANDARD
TZOFFSETFROM:-0400
TZOFFSETTO:-0500
TZNAME:EST
DTSTART:20251102T060000
END:STANDARD
END:VTIMEZONE
BEGIN:VEVENT
DTSTART;TZID=America/New_York:20241212T183000
DTEND;TZID=America/New_York:20241212T194500
DTSTAMP:20260419T115540
CREATED:20241204T213939Z
LAST-MODIFIED:20241204T214128Z
UID:2922-1734028200-1734032700@njbda.org
SUMMARY:Emerging Al Ascendancy and Shifts in Health Informatics Careers
DESCRIPTION:Rutgers Informatics Forum on Healthcare & Artificial Intelligence \n\n\n\nThis panel\, with eminent experts from industry and academia\, will address the impact of artificial intelligence (Al) on healthcare and health informatics careers. These experts will present their views on topics of growing importance of Al in healthcare. They will also provide insights into the advanced data science\, analytics and Al education and preparation needed for health informatics jobs and careers. \n\n\n\nExpert Guest Speakers: \n\n\n\nDavid Artz\, MD\, MBAKeynote PresenterHealth Administration Fellow\, Bloustein School\, Rutgers University; Weill Cornell Medicine\, and Atlantic Health System \n\n\n\nCory Yemen\, PhD ’23Director\, Data Science & Infrastructure\, Growth Market Insights\, Labcorp \n\n\n\nSoumitra Bhuyan\, PhD\, MPHExecutive Director\, Health Administration Program and Associate Professor\, Bloustein School\, Rutgers University \n\n\n\nJim Samuel\, PhDExecutive Director\, Master of Public Informatics and Associate Professor of Practice\, Bloustein School\, Rutgers University \n\n\n\nHosted by the Public Informatics Student Group and the Master of Public Informatics (MPI) program at Rutgers University
URL:https://njbda.org/event/emerging-al-ascendancy-and-shifts-in-health-informatics-careers/
LOCATION:Zoom
ATTACH;FMTTYPE=image/png:https://njbda.org/wp-content/uploads/2024/12/Screenshot-2024-12-04-at-4.38.53-PM.png
END:VEVENT
END:VCALENDAR