BEGIN:VCALENDAR
VERSION:2.0
PRODID:-//NJBDA - New Jersey Big Data Alliance - ECPv6.15.20//NONSGML v1.0//EN
CALSCALE:GREGORIAN
METHOD:PUBLISH
X-WR-CALNAME:NJBDA - New Jersey Big Data Alliance
X-ORIGINAL-URL:https://njbda.org
X-WR-CALDESC:Events for NJBDA - New Jersey Big Data Alliance
REFRESH-INTERVAL;VALUE=DURATION:PT1H
X-Robots-Tag:noindex
X-PUBLISHED-TTL:PT1H
BEGIN:VTIMEZONE
TZID:America/New_York
BEGIN:DAYLIGHT
TZOFFSETFROM:-0500
TZOFFSETTO:-0400
TZNAME:EDT
DTSTART:20240310T070000
END:DAYLIGHT
BEGIN:STANDARD
TZOFFSETFROM:-0400
TZOFFSETTO:-0500
TZNAME:EST
DTSTART:20241103T060000
END:STANDARD
BEGIN:DAYLIGHT
TZOFFSETFROM:-0500
TZOFFSETTO:-0400
TZNAME:EDT
DTSTART:20250309T070000
END:DAYLIGHT
BEGIN:STANDARD
TZOFFSETFROM:-0400
TZOFFSETTO:-0500
TZNAME:EST
DTSTART:20251102T060000
END:STANDARD
BEGIN:DAYLIGHT
TZOFFSETFROM:-0500
TZOFFSETTO:-0400
TZNAME:EDT
DTSTART:20260308T070000
END:DAYLIGHT
BEGIN:STANDARD
TZOFFSETFROM:-0400
TZOFFSETTO:-0500
TZNAME:EST
DTSTART:20261101T060000
END:STANDARD
END:VTIMEZONE
BEGIN:VEVENT
DTSTART;TZID=America/New_York:20250409T073000
DTEND;TZID=America/New_York:20250409T170000
DTSTAMP:20260421T055204
CREATED:20241213T143943Z
LAST-MODIFIED:20241213T143951Z
UID:2933-1744183800-1744218000@njbda.org
SUMMARY:NJ-GMIS Technology Education Conference 2025
DESCRIPTION:From NJ-GMIS: \n\n\n\nJoin us for the 14th annual NJ-GMIS Technology Education Conference to be held on Wednesday\, April 9\, 2025 at the Palace at Somerset Park. We look forward to providing an enjoyable day of quality technology education\, networking\, private sector solutions and good company! \n\n\n\nWHAT: The 14th Annual NJ-GMIS Technology Education ConferenceWHEN: Wednesday\,  April 9\, 2025\, 7:30 am – 5:00 pmWHERE: The Palace at Somerset Park\, 333 Davidson Avenue\, Somerset\, NJ 08873WHO: Public Sector Technology Professionals\, Municipal Leadership\, School Boards\, Elected Officials\, Registered Corporate Partners \n\n\n\nKeynote Speaker – Chris Michael – Mentalist & Magician!  \n\n\n\nChris Michael is a celebrity entertainer who alters the reality of people who transform the world. Chris has performed for three different royal families\, consulted for national TV Shows including America’s Got Talent\, and is the go-to entertainer for celebrities like L.L. Cool J. With more than 15 million views online it’s no wonder everyone why Chris performs to sold out crowds every time.  \n\n\n\nChris’s show enables audiences to realize the power of the “One Moment” that can change their lives. In his show\, Chris reveals the story of the “One Movement” that radically changed his own life\, and he guides audiences through a heartfelt magic experience full of laughter\, amazement\, and emotional moments so that they can discover their own “One Moment”.
URL:https://njbda.org/event/nj-gmis-technology-education-conference-2025/
LOCATION:Palace at Somerset Park\, 333 Davidson Avenue\, Somerset\, New Jersey\, 08873\, United States
ATTACH;FMTTYPE=image/jpeg:https://njbda.org/wp-content/uploads/2024/12/2025-banner-joinus_1.jpg
END:VEVENT
END:VCALENDAR