BEGIN:VCALENDAR
VERSION:2.0
PRODID:-//NJBDA - New Jersey Big Data Alliance - ECPv6.15.20//NONSGML v1.0//EN
CALSCALE:GREGORIAN
METHOD:PUBLISH
X-ORIGINAL-URL:https://njbda.org
X-WR-CALDESC:Events for NJBDA - New Jersey Big Data Alliance
REFRESH-INTERVAL;VALUE=DURATION:PT1H
X-Robots-Tag:noindex
X-PUBLISHED-TTL:PT1H
BEGIN:VTIMEZONE
TZID:America/New_York
BEGIN:DAYLIGHT
TZOFFSETFROM:-0500
TZOFFSETTO:-0400
TZNAME:EDT
DTSTART:20230312T070000
END:DAYLIGHT
BEGIN:STANDARD
TZOFFSETFROM:-0400
TZOFFSETTO:-0500
TZNAME:EST
DTSTART:20231105T060000
END:STANDARD
BEGIN:DAYLIGHT
TZOFFSETFROM:-0500
TZOFFSETTO:-0400
TZNAME:EDT
DTSTART:20240310T070000
END:DAYLIGHT
BEGIN:STANDARD
TZOFFSETFROM:-0400
TZOFFSETTO:-0500
TZNAME:EST
DTSTART:20241103T060000
END:STANDARD
BEGIN:DAYLIGHT
TZOFFSETFROM:-0500
TZOFFSETTO:-0400
TZNAME:EDT
DTSTART:20250309T070000
END:DAYLIGHT
BEGIN:STANDARD
TZOFFSETFROM:-0400
TZOFFSETTO:-0500
TZNAME:EST
DTSTART:20251102T060000
END:STANDARD
END:VTIMEZONE
BEGIN:VEVENT
DTSTART;TZID=America/New_York:20240216T093000
DTEND;TZID=America/New_York:20240216T133000
DTSTAMP:20260421T061931
CREATED:20240112T160105Z
LAST-MODIFIED:20240214T194420Z
UID:2236-1708075800-1708090200@njbda.org
SUMMARY:NJBDA Research Collaboration Forum
DESCRIPTION:The New Jersey Big Data Alliance is convening the NJBDA Research Forum which is open to all research professionals\, faculty\, research computing professionals\, students\, and other campus partners interested in shaping the Big Data and AI research collaboration landscape. Please feel free to share with your communities! \n\n\n\nOur keynote speaker is Dr. Stephen K. Burley\, Director of the RCSB Protein Data Bank.  \n\n\n\n Forum highlights: \n\n\n\n\nBig Data and AI Research Collaborations\n\n\n\nCommunities and Resources for Advancing Collaborations\n\n\n\nFunding Opportunities\n\n\n\nEstablish Contacts with the New Jersey Big Data & AI Research Community\n\n\n\n\nFor additional information\, contact research@njedge.net. \n\n\n\nAgenda\n\n\n\nPDF version \n\n\n\n9:30 AMRegistration & Light Refreshments10:00 AMWelcome and Opening Remarks (NJBDA and Saint Peter’s University host institution)Forough Ghahramani\, Vice President\, NJBDA Research Committee; Assistant Vice President\, Research & Innovation\, NJ EdgeSharath Kumar Jagannathan\, Ph.D.\, Assistant Professor;School of Business & Data Science Institute\, Saint Peter’s University10:05 AMNJBDA Updates: New Jersey Big Data Alliance Annual Symposium and The Journal of Big Data and Artificial IntelligenceForough Ghahramani\, Assistant Vice President\, Research & Innovation\, NJ Edge Hieu Nguyen\, Ph.D.\, Professor\, College of Science and Mathematics\, Rowan University10:15 AMResources and Communities for Advancing Research CollaborationsJudith Sheft\, Executive Director\, New Jersey Commission on Science\, Innovation and TechnologyForough Ghahramani\, Assistant Vice President\, Research & Innovation\, NJ Edge10:30 AMKeynote: “Protein Data Bank: From Two Epidemics to the Global Pandemic to mRNA Vaccines and Paxlovid“Stephen K. Burley\, M.D.\, D.Phil; University Professor and Henry Rutgers Chair; Founding Director\, Institute for Quantitative Biomedicine; Director\, RCSB Protein Data Bank; Co-Lead\, Cancer Pharmacology Research Program\, Cancer Institute of New Jersey; Rutgers\, The State University of New Jersey11:15 AMResearch collaboration opportunities – lightning presentations11:15-11:25 – “Blueberry Drone AI: Research collaboration between Rowan University and Camden County College” – Hieu Nguyen\, PhD\, Professor\, College of Science and Mathematics\, Rowan University  11:25– 11:35 – “Unleashing the Power of Ontologies: From Structuring Knowledge to Ethical AI” – Navya Martin\, Ph.D. Candidate\, Department of Computer Science\, New Jersey Institute of Technology  11:35 – 11:45 – “Application of Machine learning and Deep learning to diverse challenges in Bioinformatics and Computational Biology”- Iman Dehzang\, Ph.D. Assistant Professor\, Dept. of Computer Science\, Rutgers\, The State University of New Jersey 11:45 – 11:55 – “Learning Hyperbolic Brain Network Representations for Healthy Aging Trajectories and Cognitive Decline Prediction” – Mengjia Xu\, Ph.D.\, Assistant Professor\, Department of Data Science\, Ying Wu College of Computing\, New Jersey Institute of Technology 12:00 PMResearch funding opportunity and tips for writing successful grant proposalsGreg Monaco\, Ph.D.\, CEO\, Research Advisors12:30 PMWorking Lunch – Roundtable discussions by broad areas of research AI and Machine/Deep LearningCollaboration between 4-year and 2-year schoolsGenerative AI (ex: ChatGPT)Healthcare/MedicineCybersecurity\, Cyber infrastructure\, HPCPhysics\, Astro physicsSmart cities\, IoTSustainabilityOther areas of interest1:15 PMRoundtable Session Reports1:30 PMWorkshop Adjourns and Informal Networking\n\n\n\nParking\n\n\n\nParking is available at Armory Lot located at 686 Montgomery Street. \n\n\n\nAssistance with directions or have any questions about parking\, please contact one of our Team members: \n\n\n\nSupreeth Dandu: +1 571 456 9919Rohith Sanku: +1 551 344 8839 \n\n\n\nPlease share this PDF flyer with your networks!
URL:https://njbda.org/event/njbda-research-collaboration-forum/
LOCATION:Saint Peter’s University – Jersey City Campus\, 2641 John F. Kennedy Blvd\, Dinneen Hall\, 1st Floor\, McIntyre Room\, Jersey City\, NJ\, 07306\, United States
CATEGORIES:forum/panel discussion
ATTACH;FMTTYPE=image/jpeg:https://njbda.org/wp-content/uploads/2024/01/bdai.jpeg
END:VEVENT
BEGIN:VEVENT
DTSTART;TZID=America/New_York:20240222T173000
DTEND;TZID=America/New_York:20240222T210000
DTSTAMP:20260421T061931
CREATED:20240209T153938Z
LAST-MODIFIED:20240209T153941Z
UID:2351-1708623000-1708635600@njbda.org
SUMMARY:Meeting the Moment: BIPOC Tech Leader Voices
DESCRIPTION:“Meeting the Moment” is dedicated to uncovering how diverse perspectives drive social change in technology through storytelling. We will feature speakers who are pioneers in their fields\, ready to share their insights\, stimulate discussion\, and offer impactful takeaways. \n\n\n\nFeatured Speakers\n\n\n\n\nJerrel Peterson\, Director\, at Spotify\n\n\n\nSamuel Bradley\, Ph.D.\, M.S.W.\, Professor\, Macro Social Work\, Equity\, Justice\, and Inclusion\n\n\n\nMagdala Chery\, D.O.\, M.B.S.\, M.P.H.\, Physician and Health Equity Advocate\n\n\n\nNnemoma Chuwumerije\, M.S.W.\, Community Enablement Manager\, Lotic Ai\n\n\n\n\nProgram Highlights\n\n\n\nTechTalks: Enlightening talks by our speakers\, detailing their tech journey and insights. \n\n\n\nTechTable: A conversation on reimagining tech innovation at the crossroads of social work. \n\n\n\nPanel Discussion & Q&A: An interactive session with our speakers\, offering direct engagement and insights. \n\n\n\nNetworking Mix and Mingle Following the panel discussion\, we invite you to join us for a networking mix and mingle session. This will be an excellent opportunity to connect with the speakers\, fellow attendees\, and professionals over wine and cheese. It’s a perfect setting to build connections\, share ideas\, and foster collaborations in a relaxed and friendly environment. \n\n\n\nThis event is organized by the Master of Social Work and Master of Public Administration programs and sponsored by the College of Arts and Sciences. \n\n\n\nDon’t miss this opportunity to be part of a meaningful conversation on technology and social impact\, and to network with like-minded individuals passionate about making a difference. \n\n\n\nWe look forward to seeing you there for an evening of insightful discussions and enriching connections.
URL:https://njbda.org/event/meeting-the-moment-bipoc-tech-leader-voices/
LOCATION:Seton Hall University\, Bethany Hall\, Room A\, South Orange\, New Jersey\, ]07079\, United States
CATEGORIES:forum/panel discussion
ATTACH;FMTTYPE=image/webp:https://njbda.org/wp-content/uploads/2024/02/2293_Bethany_exterior_at_night.rev_.1692378236.webp
END:VEVENT
END:VCALENDAR