BEGIN:VCALENDAR
VERSION:2.0
PRODID:-//NJBDA - New Jersey Big Data Alliance - ECPv6.15.20//NONSGML v1.0//EN
CALSCALE:GREGORIAN
METHOD:PUBLISH
X-ORIGINAL-URL:https://njbda.org
X-WR-CALDESC:Events for NJBDA - New Jersey Big Data Alliance
REFRESH-INTERVAL;VALUE=DURATION:PT1H
X-Robots-Tag:noindex
X-PUBLISHED-TTL:PT1H
BEGIN:VTIMEZONE
TZID:America/New_York
BEGIN:DAYLIGHT
TZOFFSETFROM:-0500
TZOFFSETTO:-0400
TZNAME:EDT
DTSTART:20220313T070000
END:DAYLIGHT
BEGIN:STANDARD
TZOFFSETFROM:-0400
TZOFFSETTO:-0500
TZNAME:EST
DTSTART:20221106T060000
END:STANDARD
BEGIN:DAYLIGHT
TZOFFSETFROM:-0500
TZOFFSETTO:-0400
TZNAME:EDT
DTSTART:20230312T070000
END:DAYLIGHT
BEGIN:STANDARD
TZOFFSETFROM:-0400
TZOFFSETTO:-0500
TZNAME:EST
DTSTART:20231105T060000
END:STANDARD
BEGIN:DAYLIGHT
TZOFFSETFROM:-0500
TZOFFSETTO:-0400
TZNAME:EDT
DTSTART:20240310T070000
END:DAYLIGHT
BEGIN:STANDARD
TZOFFSETFROM:-0400
TZOFFSETTO:-0500
TZNAME:EST
DTSTART:20241103T060000
END:STANDARD
END:VTIMEZONE
BEGIN:VEVENT
DTSTART;TZID=America/New_York:20231106T133000
DTEND;TZID=America/New_York:20231106T170000
DTSTAMP:20260421T003759
CREATED:20231012T150451Z
LAST-MODIFIED:20231012T150739Z
UID:2170-1699277400-1699290000@njbda.org
SUMMARY:NJIT Data Science Summit
DESCRIPTION:The NJIT and Data Science community is invited to join the Institute for Data Science in an open summit with key industry professionals and NJIT research faculty with topics on Data Science and its implementation. \n\n\n\nSpeakers: \n\n\n\n\nXiaojing Wang\, Distinguished Engineer\, ADP\n\n\n\nUsman Roshan\, Associate Professor\, NJIT\n\n\n\nMengjia Xu\, Assistant Professor\, NJIT\n\n\n\nErez Agmoni\, Global Head of Innovation (Logistics & Services)\, Maersk\n\n\n\nMegnan Du\, Assistant Professor\, NJIT\n\n\n\nSherry Marcus\, Director\, Titan Labs AWS
URL:https://njbda.org/event/njit-data-science-summit/
LOCATION:NJIT@Jersey City\, 101 Hudson St\, Suite 3610\, Jersey City\, New Jersey\, United States
CATEGORIES:symposium
ATTACH;FMTTYPE=image/png:https://njbda.org/wp-content/uploads/2023/10/NJIT-data-summit.png
END:VEVENT
END:VCALENDAR