BEGIN:VCALENDAR
VERSION:2.0
PRODID:-//NJBDA - New Jersey Big Data Alliance - ECPv6.15.20//NONSGML v1.0//EN
CALSCALE:GREGORIAN
METHOD:PUBLISH
X-ORIGINAL-URL:https://njbda.org
X-WR-CALDESC:Events for NJBDA - New Jersey Big Data Alliance
REFRESH-INTERVAL;VALUE=DURATION:PT1H
X-Robots-Tag:noindex
X-PUBLISHED-TTL:PT1H
BEGIN:VTIMEZONE
TZID:America/New_York
BEGIN:DAYLIGHT
TZOFFSETFROM:-0500
TZOFFSETTO:-0400
TZNAME:EDT
DTSTART:20210314T070000
END:DAYLIGHT
BEGIN:STANDARD
TZOFFSETFROM:-0400
TZOFFSETTO:-0500
TZNAME:EST
DTSTART:20211107T060000
END:STANDARD
BEGIN:DAYLIGHT
TZOFFSETFROM:-0500
TZOFFSETTO:-0400
TZNAME:EDT
DTSTART:20220313T070000
END:DAYLIGHT
BEGIN:STANDARD
TZOFFSETFROM:-0400
TZOFFSETTO:-0500
TZNAME:EST
DTSTART:20221106T060000
END:STANDARD
BEGIN:DAYLIGHT
TZOFFSETFROM:-0500
TZOFFSETTO:-0400
TZNAME:EDT
DTSTART:20230312T070000
END:DAYLIGHT
BEGIN:STANDARD
TZOFFSETFROM:-0400
TZOFFSETTO:-0500
TZNAME:EST
DTSTART:20231105T060000
END:STANDARD
END:VTIMEZONE
BEGIN:VEVENT
DTSTART;TZID=America/New_York:20221111T110000
DTEND;TZID=America/New_York:20221111T121500
DTSTAMP:20260421T071625
CREATED:20221102T185309Z
LAST-MODIFIED:20221102T190325Z
UID:1645-1668164400-1668168900@njbda.org
SUMMARY:Intelligent Informatics @ Bloustein Workshop and Seminar Series - Nov 11 (Zoom/in-person)
DESCRIPTION:Knowledge Graphs in Natural Language Processing: Overcome Domain Adaptation Challenges in Language Models \n\n\n\nThe event is hosted by the PISG\, the MPI program and the Rutgers Urban & Civic Informatics (RUCI) Lab\, the Bloustein Student Services and BGSA in collaboration with our partners at Rutgers University and our external collaborators. \n\n\n\nEvent presented by Vivek Kumar\, Marie Sklodowska-Curie Scholar\, University of Cagliari\, Italy \n\n\n\nVivek Kumar is an NLP Enthusiast. He is presently working as a Marie Sklodowska-Curie Researcher with the University of Cagliari\, Italy and Philips Research\, Netherlands for PhilHumans (European Commission\, Horizon 2020\, ITN project). Prior to this\, he worked as a Research Engineer for the project “Search for Hidden Particle” (SHiP) of the European Commission of Nuclear Research (CERN) at NUST-MiSiS. He received his MS degree from NUST-MiSiS in Computer Science. In his career so far\, he has authored several publications with Journals\, Book Series and Conferences of International repute. He is also the reviewer / editor for several Journals and International Conferences of IEEE\, Springer\, ACM\, etc; \n\n\n\nPISG Student leaders will present their experiences with studying informatics and analytics at the Bloustein School. Prof. Jim Samuel\, Director of the Master of Public Informatics (MPI) program\, will provide closing comments on the potential for using NLP in AI for public good initiatives. \n\n\n\nREGISTRATION REQUIRED \n\n\n\nZOOM: https://rutgers.zoom.us/webinar/register/WN_HUlNtxeWT4-V3lKbid4ODw \n\n\n\nIn person: RSVP to rucilab@ejb.rutgers.eduRoom 112\, Bloustein School\, 33 Livingston Avenue\, New Brunswick\, NJPizza and drinks will be available for in-person attendees!Informatics ‘Listening Session’ will start @ 12:15 PM \n\n\n\nDownload PDF flyer
URL:https://njbda.org/event/intelligent-informatics-bloustein-workshop-and-seminar-series-nov-11-zoom-in-person/
LOCATION:Bloustein School – Room 112\, 33 Livingston Avenue\, New Brunswick\, New Jersey\, United States
CATEGORIES:workshops
ATTACH;FMTTYPE=image/png:https://njbda.org/wp-content/uploads/2022/11/Screen-Shot-2022-11-02-at-2.58.47-PM.png
END:VEVENT
END:VCALENDAR