BEGIN:VCALENDAR
VERSION:2.0
PRODID:-//NJBDA - New Jersey Big Data Alliance - ECPv6.15.20//NONSGML v1.0//EN
CALSCALE:GREGORIAN
METHOD:PUBLISH
X-WR-CALNAME:NJBDA - New Jersey Big Data Alliance
X-ORIGINAL-URL:https://njbda.org
X-WR-CALDESC:Events for NJBDA - New Jersey Big Data Alliance
REFRESH-INTERVAL;VALUE=DURATION:PT1H
X-Robots-Tag:noindex
X-PUBLISHED-TTL:PT1H
BEGIN:VTIMEZONE
TZID:America/New_York
BEGIN:DAYLIGHT
TZOFFSETFROM:-0500
TZOFFSETTO:-0400
TZNAME:EDT
DTSTART:20190310T070000
END:DAYLIGHT
BEGIN:STANDARD
TZOFFSETFROM:-0400
TZOFFSETTO:-0500
TZNAME:EST
DTSTART:20191103T060000
END:STANDARD
BEGIN:DAYLIGHT
TZOFFSETFROM:-0500
TZOFFSETTO:-0400
TZNAME:EDT
DTSTART:20200308T070000
END:DAYLIGHT
BEGIN:STANDARD
TZOFFSETFROM:-0400
TZOFFSETTO:-0500
TZNAME:EST
DTSTART:20201101T060000
END:STANDARD
BEGIN:DAYLIGHT
TZOFFSETFROM:-0500
TZOFFSETTO:-0400
TZNAME:EDT
DTSTART:20210314T070000
END:DAYLIGHT
BEGIN:STANDARD
TZOFFSETFROM:-0400
TZOFFSETTO:-0500
TZNAME:EST
DTSTART:20211107T060000
END:STANDARD
END:VTIMEZONE
BEGIN:VEVENT
DTSTART;TZID=America/New_York:20201022T140000
DTEND;TZID=America/New_York:20201022T163000
DTSTAMP:20260420T001921
CREATED:20201014T183135Z
LAST-MODIFIED:20201014T184550Z
UID:549-1603375200-1603384200@njbda.org
SUMMARY:Sipping Big Data! A Tasty Conversation with ABInBev\, the World's #1 Brewer
DESCRIPTION:New Jersey Big Data Alliance Presents… \nSipping Big Data! A Tasty Conversation with ABInBev\, the World’s #1 Brewer \nOctober 22: 2:00-4:30pm EST \n \nProgram Overview \n\nThis half-day workshop will be hosted virtually in connection with the Newark site of Anheuser-Busch InBev.\nThe event will feature speakers from Anheuser-Busch working in advanced analytics\, companies in the Newark area\, and faculty experts.\n\nHosts: \nAdam Spunberg\, Global Tech Exploration Lead\, ABInBev\nRashmi Jain\, Professor\, Montclair State University; Vice President\, NJBDA\nAnthony Russo\, President\, Commerce and Industry Association of NJ \n\nPresentations will focus on strategic development and innovation in the application of big data and data analytics solutions such as AI\, ML\, and advanced manufacturing in beverage production.\n\nRegister Now\nFor inquiries\, please contact: jainra@montclair.edu \nEvent Sponsored by the US Economic Development Administration \nDownload PDF flyer
URL:https://njbda.org/event/sipping-big-data/
LOCATION:Online
CATEGORIES:workshops
END:VEVENT
END:VCALENDAR