BEGIN:VCALENDAR
VERSION:2.0
PRODID:-//NJBDA - New Jersey Big Data Alliance - ECPv6.15.20//NONSGML v1.0//EN
CALSCALE:GREGORIAN
METHOD:PUBLISH
X-ORIGINAL-URL:https://njbda.org
X-WR-CALDESC:Events for NJBDA - New Jersey Big Data Alliance
REFRESH-INTERVAL;VALUE=DURATION:PT1H
X-Robots-Tag:noindex
X-PUBLISHED-TTL:PT1H
BEGIN:VTIMEZONE
TZID:America/New_York
BEGIN:DAYLIGHT
TZOFFSETFROM:-0500
TZOFFSETTO:-0400
TZNAME:EDT
DTSTART:20200308T070000
END:DAYLIGHT
BEGIN:STANDARD
TZOFFSETFROM:-0400
TZOFFSETTO:-0500
TZNAME:EST
DTSTART:20201101T060000
END:STANDARD
BEGIN:DAYLIGHT
TZOFFSETFROM:-0500
TZOFFSETTO:-0400
TZNAME:EDT
DTSTART:20210314T070000
END:DAYLIGHT
BEGIN:STANDARD
TZOFFSETFROM:-0400
TZOFFSETTO:-0500
TZNAME:EST
DTSTART:20211107T060000
END:STANDARD
BEGIN:DAYLIGHT
TZOFFSETFROM:-0500
TZOFFSETTO:-0400
TZNAME:EDT
DTSTART:20220313T070000
END:DAYLIGHT
BEGIN:STANDARD
TZOFFSETFROM:-0400
TZOFFSETTO:-0500
TZNAME:EST
DTSTART:20221106T060000
END:STANDARD
END:VTIMEZONE
BEGIN:VEVENT
DTSTART;TZID=America/New_York:20211111T183000
DTEND;TZID=America/New_York:20211111T193000
DTSTAMP:20260421T172248
CREATED:20210720T011856Z
LAST-MODIFIED:20210720T011903Z
UID:939-1636655400-1636659000@njbda.org
SUMMARY:Distinguished Lecture Series in Business Analytics\, Seton Hall University
DESCRIPTION:Kimya Lee\, Ph.D.\, Executive Director\, Strategic Workforce Planning & Analysis\, Office of the Chief Human Capital Officer\, U.S. Department of Homeland Security \n\n\n\nThe People Part of Analytics (or When Data Isn’t Enough)Exploring the intersections among data\, analytics\, personnel & HR policy. What to do when your data model isn’t enough. The discussion will focus on the complexities of data analytics\, how it affects policymaking\, and the importance of storytelling with data. \n\n\n\nREGISTER NOW
URL:https://njbda.org/event/distinguished-lecture-series-in-business-analytics-seton-hall-university-3/
LOCATION:Virtual
END:VEVENT
BEGIN:VEVENT
DTSTART;TZID=America/New_York:20211112T120000
DTEND;TZID=America/New_York:20211112T130000
DTSTAMP:20260421T172248
CREATED:20211001T154242Z
LAST-MODIFIED:20220202T194826Z
UID:977-1636718400-1636722000@njbda.org
SUMMARY:Analytics\, Data Science & Artificial Intelligence Workshop & Seminar Series @ Rutgers University: Intelligent Informatics @ Bloustein
DESCRIPTION:Analytics\, Data Science & Artificial Intelligence Workshop & Seminar Series @ Rutgers University: Intelligent Informatics @ Bloustein    \n\n\n\n11/12/2021: Public Informatics for a Better Future: Textual Analytics with R and Social Media Data by Dr. Jim Samuel\, Executive Director- Informatics\, EJ Bloustein School of Planning & Public Policy\, Rutgers\, The State University of New Jersey.   \n\n\n\nOpen/ free\, registration link:    https://rutgers.zoom.us/webinar/register/WN_9mvOSO4uRgyiwWvZ2nd0bg
URL:https://njbda.org/event/public-informatics-for-a-better-future-textual-analytics-with-r-and-social-media-data/
LOCATION:New Jersey
CATEGORIES:workshops
END:VEVENT
END:VCALENDAR