BEGIN:VCALENDAR
VERSION:2.0
PRODID:-//NJBDA - New Jersey Big Data Alliance - ECPv6.15.20//NONSGML v1.0//EN
CALSCALE:GREGORIAN
METHOD:PUBLISH
X-ORIGINAL-URL:https://njbda.org
X-WR-CALDESC:Events for NJBDA - New Jersey Big Data Alliance
REFRESH-INTERVAL;VALUE=DURATION:PT1H
X-Robots-Tag:noindex
X-PUBLISHED-TTL:PT1H
BEGIN:VTIMEZONE
TZID:America/New_York
BEGIN:DAYLIGHT
TZOFFSETFROM:-0500
TZOFFSETTO:-0400
TZNAME:EDT
DTSTART:20200308T070000
END:DAYLIGHT
BEGIN:STANDARD
TZOFFSETFROM:-0400
TZOFFSETTO:-0500
TZNAME:EST
DTSTART:20201101T060000
END:STANDARD
BEGIN:DAYLIGHT
TZOFFSETFROM:-0500
TZOFFSETTO:-0400
TZNAME:EDT
DTSTART:20210314T070000
END:DAYLIGHT
BEGIN:STANDARD
TZOFFSETFROM:-0400
TZOFFSETTO:-0500
TZNAME:EST
DTSTART:20211107T060000
END:STANDARD
BEGIN:DAYLIGHT
TZOFFSETFROM:-0500
TZOFFSETTO:-0400
TZNAME:EDT
DTSTART:20220313T070000
END:DAYLIGHT
BEGIN:STANDARD
TZOFFSETFROM:-0400
TZOFFSETTO:-0500
TZNAME:EST
DTSTART:20221106T060000
END:STANDARD
END:VTIMEZONE
BEGIN:VEVENT
DTSTART;TZID=America/New_York:20211209T130000
DTEND;TZID=America/New_York:20211209T170000
DTSTAMP:20260421T155922
CREATED:20211124T170618Z
LAST-MODIFIED:20220202T194709Z
UID:1002-1639054800-1639069200@njbda.org
SUMMARY:Enabling Protein Structure Prediction with AI
DESCRIPTION:Artificial Intelligence/Machine Learning (AI/ML) methods are being used for de novo protein structure prediction. In addition to expert lectures\, this crash course will provide hands-on training on AlphaFold2 and RosettaFold. These methods made a big impact in the field of protein prediction by solving a 50-year-old grant challenge. Please check the registration page (https://iqb.rutgers.edu/node/245)  for more details.
URL:https://njbda.org/event/enabling-protein-structure-prediction-with-ai/
LOCATION:New Jersey
CATEGORIES:lectures/talks,workshops
END:VEVENT
BEGIN:VEVENT
DTSTART;TZID=America/New_York:20211209T183000
DTEND;TZID=America/New_York:20211209T193000
DTSTAMP:20260421T155922
CREATED:20210720T012050Z
LAST-MODIFIED:20211203T145923Z
UID:941-1639074600-1639078200@njbda.org
SUMMARY:Distinguished Lecture Series in Business Analytics\, Seton Hall University
DESCRIPTION:Jeffrey S. Noto\, M.S.\, SVP and CFO\, Global Network and Technology\, Verizon  \n\n\n\nAnalytics from the CFO’s PerspectiveThe presentation will discuss analytical applications focused on improving the financial outcomes in a corporate environment\, including how improved operational data leads to advancements in financial outcomes – business volume insights\, investment analytics\, profitability insights\, financial forecasting and overall improved financial results. \n\n\n\nREGISTER NOW
URL:https://njbda.org/event/distinguished-lecture-series-in-business-analytics-seton-hall-university-4/
LOCATION:Virtual
CATEGORIES:lectures/talks
END:VEVENT
BEGIN:VEVENT
DTSTART;TZID=America/New_York:20211210T090000
DTEND;TZID=America/New_York:20211210T120000
DTSTAMP:20260421T155922
CREATED:20211111T142424Z
LAST-MODIFIED:20220328T010209Z
UID:992-1639126800-1639137600@njbda.org
SUMMARY:The New Jersey Big Data Alliance Research Forum
DESCRIPTION:The New Jersey Big Data Alliance is convening the NJBDA Research Forum which is open to all research professionals\, faculty\, research computing professionals\, students\, and other campus partners interested in shaping the Big Data research collaboration landscape. Please feel free to share with your communities! \n\n\n\nAgenda\nThe New Jersey Big Data Alliance Research Collaboration Forum  \n\n\n\nDecember 10\, 2021\, 9:00 AM – 12:00 PM ET – Virtual Event \n\n\n\nAgenda \n\n\n\n09:00 AM Welcome and Opening Remarks \n\n\n\nForough Ghahramani\, EdD\, Associate Vice President for Research\, Innovation\, and Sponsored Programs\, Edge\, and Vice President Research Collaborations Committee\, NJBDA \n\n\n\n09:10 AM Resources and Communities for Advancing Research Collaborations \n\n\n\nIEEE DataPort  \n\n\n\nMelissa Handa\, Program Director Technical Activities\, IEEE DataPort™\, Senior Program Manager\, IEEE \n\n\n\nThe Eastern Regional Network  \n\n\n\nBarr von Oehsen\, PhD\, ERN Steering Committee and  Vice President for the Office of Research and Advanced Computing\, Rutgers University \n\n\n\nResearch with New Jersey \n\n\n\nJudith Sheft\, Executive Director \n\n\n\nNJ Commission on Science\, Innovation\, and Technology \n\n\n\n10:00 AM Multi-institutional  Collaborations   \n\n\n\nNew Jersey Build Back Better Regional Challenge Projects NJEDA Perspective \n\n\n\nPallavi Madakasira\, Director\, Clean Energy\, New Jersey Economic Development Authority (NJEDA) \n\n\n\nGreater Newark Smart Port Regional Growth Cluster \n\n\n\nAtam Dahwan\, PhD\,  Senior Vice Provost for Research\, Distinguished Professor of Electrical and Computer Engineering\, New Jersey Institute of Technology  \n\n\n\nSmart Aviation Growth Cluster  \n\n\n\nCarole M. Mattessich\, Esq.\, Director\, Smart Airports & Aviation Partnership\, National Institute of Aerospace \n\n\n\nClean Energy Resource\, Training\, and Innovation (CERTI) Cluster \n\n\n\nTabbetha Dobbins\, PdD\, Interim VP for Research and Dean of the Graduate School\, Dept. of Physics & Astronomy\, Rowan University \n\n\n\nCommunications\, Data\,and Intelligent Technologies (CoDIT) Regional Growth Cluster \n\n\n\nVictor Lawrence\, PhD\, Distinguished Research Professor and the Director of the Center for Intelligent Networked Systems\, Stevens Institute of Technology \n\n\n\nBuilding Inclusive Entrepreneurial Ecosystems in American Opportunity Zones \n\n\n\nAnne-Marie Maman\, Executive Director\, Princeton Entrepreneurship Council \n\n\n\n11:15 AM National Science Foundation Cyberinfrastructure Funding Opportunities  \n\n\n\nRick McMullen\, PhD\, Research Advisors Group \n\n\n\n11:45 AM Closing Remarks \n\n\n\n () if you have not yet registered. \n\n\n\n\nDownload agenda: PDF \n\n\n\nForum Highlights: \n\n\n\nBig Data Research CollaborationsCommunities and Resources for Advancing CollaborationsFunding OpportunitiesEstablish Contacts with the New Jersey Big Data Research Community \n\n\n\nJoin us for this unique opportunity to connect to the Big Data Research Community! \n\n\n\nFor additional information contact: research@njedge.net  \n\n\n\nRegister for the NJBDA Research Forum on December 10\, 2021 here:  \n\n\n\nDownload flyer: PDF | Word
URL:https://njbda.org/event/the-new-jersey-big-data-alliance-research-forum/
LOCATION:New Jersey
CATEGORIES:forum/panel discussion
END:VEVENT
END:VCALENDAR