BEGIN:VCALENDAR
VERSION:2.0
PRODID:-//NJBDA - New Jersey Big Data Alliance - ECPv6.15.20//NONSGML v1.0//EN
CALSCALE:GREGORIAN
METHOD:PUBLISH
X-WR-CALNAME:NJBDA - New Jersey Big Data Alliance
X-ORIGINAL-URL:https://njbda.org
X-WR-CALDESC:Events for NJBDA - New Jersey Big Data Alliance
REFRESH-INTERVAL;VALUE=DURATION:PT1H
X-Robots-Tag:noindex
X-PUBLISHED-TTL:PT1H
BEGIN:VTIMEZONE
TZID:America/New_York
BEGIN:DAYLIGHT
TZOFFSETFROM:-0500
TZOFFSETTO:-0400
TZNAME:EDT
DTSTART:20210314T070000
END:DAYLIGHT
BEGIN:STANDARD
TZOFFSETFROM:-0400
TZOFFSETTO:-0500
TZNAME:EST
DTSTART:20211107T060000
END:STANDARD
BEGIN:DAYLIGHT
TZOFFSETFROM:-0500
TZOFFSETTO:-0400
TZNAME:EDT
DTSTART:20220313T070000
END:DAYLIGHT
BEGIN:STANDARD
TZOFFSETFROM:-0400
TZOFFSETTO:-0500
TZNAME:EST
DTSTART:20221106T060000
END:STANDARD
BEGIN:DAYLIGHT
TZOFFSETFROM:-0500
TZOFFSETTO:-0400
TZNAME:EDT
DTSTART:20230312T070000
END:DAYLIGHT
BEGIN:STANDARD
TZOFFSETFROM:-0400
TZOFFSETTO:-0500
TZNAME:EST
DTSTART:20231105T060000
END:STANDARD
END:VTIMEZONE
BEGIN:VEVENT
DTSTART;TZID=America/New_York:20220915T000000
DTEND;TZID=America/New_York:20220915T235959
DTSTAMP:20260421T032952
CREATED:20220204T155956Z
LAST-MODIFIED:20220808T140411Z
UID:1110-1663200000-1663286399@njbda.org
SUMMARY:Journal of Big Data Theory and Practice (JBDTP) Call for Manuscripts
DESCRIPTION:It is our great pleasure to announce the call for papers for the Journal of Big Data: Theory and Practice (JBDTP). JBDTP is an open access peer-reviewed journal which is devoted to the publication of high-quality papers on the theoretical and practical aspects of big data\, AI\, applications and machine learning. \n\n\n\nAuthors are invited to submit novel\, high quality work that has neither appeared in\, nor is under consideration for publication elsewhere. \n\n\n\nAreas of interest include the following (but not restricted to):  \n\n\n\n• Theory and Foundational Issues• Data Mining Methods• Machine Learning Algorithms• Knowledge Discovery Processes• Application Issues and Case Studies• Ethical\, policy and economic aspects of big data\, machine learning and AI • Big data analytics and decision-making• Human interaction with AI \n\n\n\nSubmission Guidelines\n\n\n\nManuscripts (MS Word or PDF format)\, formatted in a single column\, with double spacing\, 12 pt. font and numbered pages. An abstract of 250 words or fewer should be included. Author names and identification information must be restricted to the initial Title page (Title\, author names\, affiliation\, contact details and brief 3 to 4 sentence bios.)\, to facilitate blind peer review. Other than these\, there are no style restrictions (e.g. APA\, IEEE etc.) for the initial submission. All papers will undergo the journal’s rigorous peer review process which can be found on the JBDTP journal website. Manuscripts must be submitted here. The editorial team aims to provide an initial decision within 3 months of acceptance for review. Final paper needs to be no more than 10 pages in length\, please refer to author guidelines. \n\n\n\nImportant Dates\n\n\n\nManuscript submission is on a rolling basis\, and will remain open perpetually. The submission window for the next issue will close on March 15\, 2022. \n\n\n\nMore information on the JBDTP site.
URL:https://njbda.org/event/jbdtp-call-for-manuscripts-deadline/
LOCATION:New Jersey
ATTACH;FMTTYPE=image/png:https://njbda.org/wp-content/uploads/2022/02/Screen-Shot-2022-08-08-at-10.03.19-AM.png
END:VEVENT
END:VCALENDAR