BEGIN:VCALENDAR
VERSION:2.0
PRODID:-//NJBDA - New Jersey Big Data Alliance - ECPv6.15.20//NONSGML v1.0//EN
CALSCALE:GREGORIAN
METHOD:PUBLISH
X-WR-CALNAME:NJBDA - New Jersey Big Data Alliance
X-ORIGINAL-URL:https://njbda.org
X-WR-CALDESC:Events for NJBDA - New Jersey Big Data Alliance
REFRESH-INTERVAL;VALUE=DURATION:PT1H
X-Robots-Tag:noindex
X-PUBLISHED-TTL:PT1H
BEGIN:VTIMEZONE
TZID:America/New_York
BEGIN:DAYLIGHT
TZOFFSETFROM:-0500
TZOFFSETTO:-0400
TZNAME:EDT
DTSTART:20210314T070000
END:DAYLIGHT
BEGIN:STANDARD
TZOFFSETFROM:-0400
TZOFFSETTO:-0500
TZNAME:EST
DTSTART:20211107T060000
END:STANDARD
BEGIN:DAYLIGHT
TZOFFSETFROM:-0500
TZOFFSETTO:-0400
TZNAME:EDT
DTSTART:20220313T070000
END:DAYLIGHT
BEGIN:STANDARD
TZOFFSETFROM:-0400
TZOFFSETTO:-0500
TZNAME:EST
DTSTART:20221106T060000
END:STANDARD
BEGIN:DAYLIGHT
TZOFFSETFROM:-0500
TZOFFSETTO:-0400
TZNAME:EDT
DTSTART:20230312T070000
END:DAYLIGHT
BEGIN:STANDARD
TZOFFSETFROM:-0400
TZOFFSETTO:-0500
TZNAME:EST
DTSTART:20231105T060000
END:STANDARD
END:VTIMEZONE
BEGIN:VEVENT
DTSTART;TZID=America/New_York:20221201T000000
DTEND;TZID=America/New_York:20221201T235959
DTSTAMP:20260420T225718
CREATED:20220808T140152Z
LAST-MODIFIED:20220808T174040Z
UID:1610-1669852800-1669939199@njbda.org
SUMMARY:Call for Submissions for Special Issue of JBDTP
DESCRIPTION:It is our great pleasure to announce the call for manuscripts for the Journal of Big Data Theory and Practice (JBDTP) special issue – Enabling Technologies in Intelligent Healthcare: From the Internet of Things (IoT)\, To Artificial Intelligence\, Big Data\, and Blockchain. \n\n\n\nImportant DatesSubmissions Deadline: December 1\, 2022Revision Due: March 1\, 2023First Reviews Due: February 15\, 2023Second Reviews Due: March 15\, 2023 \n\n\n\nPlease visit the JBDTP website for additional information about submissions.
URL:https://njbda.org/event/call-for-submissions-for-special-issue-of-jbdtp/
LOCATION:New Jersey
ATTACH;FMTTYPE=image/png:https://njbda.org/wp-content/uploads/2022/02/Screen-Shot-2022-08-08-at-10.03.19-AM.png
END:VEVENT
END:VCALENDAR