BEGIN:VCALENDAR
VERSION:2.0
PRODID:-//NJBDA - New Jersey Big Data Alliance - ECPv6.15.20//NONSGML v1.0//EN
CALSCALE:GREGORIAN
METHOD:PUBLISH
X-WR-CALNAME:NJBDA - New Jersey Big Data Alliance
X-ORIGINAL-URL:https://njbda.org
X-WR-CALDESC:Events for NJBDA - New Jersey Big Data Alliance
REFRESH-INTERVAL;VALUE=DURATION:PT1H
X-Robots-Tag:noindex
X-PUBLISHED-TTL:PT1H
BEGIN:VTIMEZONE
TZID:America/New_York
BEGIN:DAYLIGHT
TZOFFSETFROM:-0500
TZOFFSETTO:-0400
TZNAME:EDT
DTSTART:20220313T070000
END:DAYLIGHT
BEGIN:STANDARD
TZOFFSETFROM:-0400
TZOFFSETTO:-0500
TZNAME:EST
DTSTART:20221106T060000
END:STANDARD
BEGIN:DAYLIGHT
TZOFFSETFROM:-0500
TZOFFSETTO:-0400
TZNAME:EDT
DTSTART:20230312T070000
END:DAYLIGHT
BEGIN:STANDARD
TZOFFSETFROM:-0400
TZOFFSETTO:-0500
TZNAME:EST
DTSTART:20231105T060000
END:STANDARD
BEGIN:DAYLIGHT
TZOFFSETFROM:-0500
TZOFFSETTO:-0400
TZNAME:EDT
DTSTART:20240310T070000
END:DAYLIGHT
BEGIN:STANDARD
TZOFFSETFROM:-0400
TZOFFSETTO:-0500
TZNAME:EST
DTSTART:20241103T060000
END:STANDARD
END:VTIMEZONE
BEGIN:VEVENT
DTSTART;TZID=America/New_York:20230404T133000
DTEND;TZID=America/New_York:20230404T163000
DTSTAMP:20260420T164233
CREATED:20230228T141216Z
LAST-MODIFIED:20230519T201925Z
UID:1768-1680615000-1680625800@njbda.org
SUMMARY:NJBDA Smart Ports Workshop
DESCRIPTION:NJBDA Smart Ports Workshop \n\n\n\nwith the support from the US Economic Development Administration \n\n\n\nJoin us for the New Jersey Big Data Alliance (NJBDA) Smart Ports Virtual Workshop on April 4th  to discover the benefits and opportunities for innovations in port systems. Members of government\, faculty\, students\, port-related businesses and the general public are invited to attend this event. \n\n\n\n \n\n\n\nHosted by:  \n\n\n\nNew Jersey Institute of Technology Institute for Data Science \n\n\n\nModerated by: David Bader\, Director\, Institute for Data Science\, NJIT  \n\n\n\nAn Introduction by: Peggy Brennan-Tonetta\, NJBDA Co-Founder and Past-President\, and Director\, Resource and Economic Development\, Rutgers New Jersey Agricultural Experiment Station\, Rutgers University  \n\n\n\nConfirmed Speakers:  \n\n\n\nBeth RooneyPort Director at The Port Authority of New York and New Jersey \n\n\n\nDennis MontsChief Operations Officer for Advent eModal  \n\n\n\nAnne Strauss-WiederDirector\, Freight Planning\, at North Jersey Transportation Planning Authority \n\n\n\nDate: Tuesday\, April 4th\, 2023  \n\n\n\nTime: 1:30 PM – 4:30 PM ET \n\n\n\nTo Register: https://www.eventbrite.com/e/njbdaus-eda-smart-ports-workshop-tickets-565287709757 \n\n\n\n \n\n\n\nWorkshop Overview: Three-hour virtual event via Zoom. Each talk is estimated to be 30-45 minutes\, with time for questions and discussion. There will be no monetary cost to attend this event. Additional updates and workshop details will be provided soon. Please contact the event organizers if you have any questions. Thank You! \n\n\n\nDownload PDF flyer
URL:https://njbda.org/event/njbda-smart-ports-workshop/
LOCATION:New Jersey
CATEGORIES:workshops
ATTACH;FMTTYPE=image/png:https://njbda.org/wp-content/uploads/2023/02/smartports.png
END:VEVENT
BEGIN:VEVENT
DTSTART;TZID=America/New_York:20230418T100000
DTEND;TZID=America/New_York:20230418T130000
DTSTAMP:20260420T164233
CREATED:20230311T150608Z
LAST-MODIFIED:20230406T132409Z
UID:1825-1681812000-1681822800@njbda.org
SUMMARY:Collaboration for Articulation Agreements
DESCRIPTION:The NJ Pathways to Career Opportunities Initiative and New Jersey’s Big Data Alliance are partnering to bring together New Jersey’s Community Colleges and 4-Year Colleges and Universities to expand articulation agreements. This convening will be an opportunity for the institutions of higher education to develop more collaborative relationships and increase the number of articulation agreements between them. \n\n\n\nLearn about the NJ Pathways Initiative and its emphasis on Data Science\, and learn how articulation agreements in Data Science have worked between other New Jersey institutions. \n\n\n\nPlease register as soon as possible to reserve your seat.  \n\n\n\nMeeting Details: \n\n\n\n\nDate: Tuesday\, April 18\, 2023\n\n\n\nTime: 10:00 AM to 1:00 PM (lunch served)\n\n\n\nLocation: Middlesex College | Crabiel Hall\, Brunswick Room\n\n\n\n\nSeating is limited so please register as soon as possible to reserve your spot. \n\n\n\nRegistration begins at 9:30 AM. Networking lunch served at 12 PM.  \n\n\n\nDownload flyer (PDF)
URL:https://njbda.org/event/collaboration-for-articulation-agreements/
LOCATION:Middlesex College\, Crabiel Hall\, Brunswick Room\, 2600 Woodbridge Avenue\, Edison\, New Jersey\, 08818-3050\, United States
CATEGORIES:forum/panel discussion,meeting
ATTACH;FMTTYPE=image/png:https://njbda.org/wp-content/uploads/2023/03/collaboration-for-articulation.png
END:VEVENT
BEGIN:VEVENT
DTSTART;TZID=America/New_York:20230421T110000
DTEND;TZID=America/New_York:20230421T133000
DTSTAMP:20260420T164233
CREATED:20230310T203109Z
LAST-MODIFIED:20230421T133922Z
UID:1811-1682074800-1682083800@njbda.org
SUMMARY:POSTPONED TO FALL 2023: GSODI Forum on Open Data and Artificial Intelligence
DESCRIPTION:EVENT RESCHEDULED FOR FALL 2023 \n\n\n\nA discussion of the value creation potential of aligning open data with AI\, especially generative AIs like ChatGPT and Bloom\, with reflections on public policy\n\n\n\nThis Open Data Forum will consist of a panel of eminent experts from the government\, academia\, business and media\, and will present leading ideas on topics of growing importance related to open data and artificial intelligence (AI) with a focus on the impacts of aligning open data initiatives with artificial intelligence (AI)\, and the benefits and challenges of using applications such as Bloom\, Stable Diffusion and CodeWhisperer: How will this impact the open data movement? Can ChatGPT output be treated as open data and what are the implications of treating the output from generative AIs as open data? This discussion was inspired by research on the Garden State Open Data Index (GSODI). \n\n\n\nThe Open Data – AI panel includes eminent experts as guest speakers: \n\n\n\n\nPoonam Soans\, Chief Data Officer & Director of Application Development\, State of New Jersey;\n\n\n\nRakesh (Teddy) Kumar\, PhD.\, Vice President\, ICS\, Center for Vision Technology\, SRI International\,\n\n\n\nClint Andrews\, PhD\, Professor & Associate Dean\, Bloustein School\, Rutgers University\, and\n\n\n\nRachel Rosenthal\, Bloomberg\, editorial board member\n\n\n\n\nThe discussion will be moderated by professor Jim Samuel\, Executive Director\, Bloustein School Informatics Program. \n\n\n\nRegistration required. \n\n\n\n\n11:00 AM – Coffee and welcome\n\n\n\n11:30 AM – 12:30 PM – Open Data Forum\, panel of experts’ presentation and discussion\n\n\n\n12:30 PM – 1:30 PM – Round-table lunch with guest speakers\, students and faculty\n\n\n\n\nDownload flyer (PDF)
URL:https://njbda.org/event/gsodi-forum-on-open-data-and-artificial-intelligence-2/
LOCATION:Gov. James J. Florio Special Events Forum\, 33 Livingston Avenue\, New Brunswick\, New Jersey\, 08901\, United States
CATEGORIES:forum/panel discussion
ATTACH;FMTTYPE=image/jpeg:https://njbda.org/wp-content/uploads/2023/03/GSODI-forum.jpg
END:VEVENT
BEGIN:VEVENT
DTSTART;TZID=America/New_York:20230428T100000
DTEND;TZID=America/New_York:20230428T113000
DTSTAMP:20260420T164233
CREATED:20230317T202208Z
LAST-MODIFIED:20230922T143533Z
UID:1850-1682676000-1682681400@njbda.org
SUMMARY:Advanced Manufacturing Efficiencies Through Technology
DESCRIPTION:Outstanding speakers! \n\n\n\n\nD﻿onald Coakley\, Principal\, Plant Automation Group\n\n\n\nF﻿rank Catalana\, Vice President of Operations\, Cumberland Dairy\n\n\n\nNolan Lewin\, Executive Director\, The Food Innovation Center\, Rutgers University (moderator)\n\n\n\n\nVia Zoom. \n\n\n\nDownload flyer (PDF) \n\n\n\nEvent Sponsored by the US Economic Development Administration
URL:https://njbda.org/event/advanced-manufacturing-efficiencies-through-technology/
LOCATION:New Jersey
CATEGORIES:workshops
ATTACH;FMTTYPE=image/png:https://njbda.org/wp-content/uploads/2022/12/EB-background-wordmark-17x10-1.png
END:VEVENT
END:VCALENDAR