BEGIN:VCALENDAR
VERSION:2.0
PRODID:-//NJBDA - New Jersey Big Data Alliance - ECPv6.15.20//NONSGML v1.0//EN
CALSCALE:GREGORIAN
METHOD:PUBLISH
X-WR-CALNAME:NJBDA - New Jersey Big Data Alliance
X-ORIGINAL-URL:https://njbda.org
X-WR-CALDESC:Events for NJBDA - New Jersey Big Data Alliance
REFRESH-INTERVAL;VALUE=DURATION:PT1H
X-Robots-Tag:noindex
X-PUBLISHED-TTL:PT1H
BEGIN:VTIMEZONE
TZID:America/New_York
BEGIN:DAYLIGHT
TZOFFSETFROM:-0500
TZOFFSETTO:-0400
TZNAME:EDT
DTSTART:20220313T070000
END:DAYLIGHT
BEGIN:STANDARD
TZOFFSETFROM:-0400
TZOFFSETTO:-0500
TZNAME:EST
DTSTART:20221106T060000
END:STANDARD
BEGIN:DAYLIGHT
TZOFFSETFROM:-0500
TZOFFSETTO:-0400
TZNAME:EDT
DTSTART:20230312T070000
END:DAYLIGHT
BEGIN:STANDARD
TZOFFSETFROM:-0400
TZOFFSETTO:-0500
TZNAME:EST
DTSTART:20231105T060000
END:STANDARD
BEGIN:DAYLIGHT
TZOFFSETFROM:-0500
TZOFFSETTO:-0400
TZNAME:EDT
DTSTART:20240310T070000
END:DAYLIGHT
BEGIN:STANDARD
TZOFFSETFROM:-0400
TZOFFSETTO:-0500
TZNAME:EST
DTSTART:20241103T060000
END:STANDARD
END:VTIMEZONE
BEGIN:VEVENT
DTSTART;TZID=America/New_York:20230503T090000
DTEND;TZID=America/New_York:20230503T130000
DTSTAMP:20260420T150959
CREATED:20230310T200316Z
LAST-MODIFIED:20230314T125807Z
UID:1796-1683104400-1683118800@njbda.org
SUMMARY:Big Data for Small Business: Leveraging Data for Business Growth
DESCRIPTION:The New Jersey Big Data Alliance\, US Economic Development Administration\, Edge and the Center for Business Analytics at Rider University’s Norm Brodsky College of Business invite you to learn how your small business can leverage big data. Join us for two informative panels and a networking lunch. \n\n\n\nS﻿essions include: \n\n\n\n\nC﻿hallenges and opportunities in the adoption of technology and use of data by small businesses. Panelists: Laura Glotzbach\, LGS Marketing Services; Joe Hudicka\, Neurored; Ramesh Gudalur\, Cognitive Operations; Stuart Altschuler\, Trenton Health Team\n\n\n\nRole of ecosystem stakeholders in helping small businesses leverage big data and related technologies. Panelists: Elayne McClaine\, NJ Small Business Development Center – Rutgers\, New Brunswick; Jeffrey A. Robinson\, PhD\, Rutgers University; Judith Sheft\, NJ Commission on Science\, Innovation and Technology; Jasmine Ward\, TechUnited\n\n\n\n\nPanel moderators: Emre Yetgin\, Director\, Center for Business Analytics; Forough Ghahramani\, Assistant VP\, Research\, Innovation & Sponsored Programs\, Edge; Linda Lindner\, Managing Editor\, ROI-NJ. \n\n\n\nLunch and networking session to follow. \n\n\n\nDownload flyer (PDF)
URL:https://njbda.org/event/big-data-for-small-business-leveraging-data-for-business-growth/
LOCATION:Rider University\, Lynch Adler Hall 202\, 2083 Lawrenceville Road\, Lawrenceville\, New Jersey\, 08648\, United States
CATEGORIES:forum/panel discussion
ATTACH;FMTTYPE=image/png:https://njbda.org/wp-content/uploads/2023/03/Big-Data-for-Small-Business-Flyer.png
END:VEVENT
BEGIN:VEVENT
DTSTART;TZID=America/New_York:20230509T080000
DTEND;TZID=America/New_York:20230509T170000
DTSTAMP:20260420T150959
CREATED:20221201T142821Z
LAST-MODIFIED:20240412T143256Z
UID:1697-1683619200-1683651600@njbda.org
SUMMARY:2023 NJBDA Annual Symposium
DESCRIPTION:The New Jersey Big Data Alliance (NJBDA) is an alliance of 18 higher education institutions\, as well as industry and government members\, that catalyzes collaboration in advanced computing and data analytics research\, education and technology. \n\n\n\nThe NJBDA’s annual symposium is New Jersey’s premier conference for big data & advanced computing\, consistently attracting 200+attendees from industry\, government\, and academia. View 2023 Symposium agenda and register.
URL:https://njbda.org/event/njbda-annual-symposium/
LOCATION:Seton Hall University
CATEGORIES:Annual Symposium
ATTACH;FMTTYPE=image/png:https://njbda.org/wp-content/uploads/2022/12/EB-background-wordmark-17x10-1.png
END:VEVENT
BEGIN:VEVENT
DTSTART;TZID=America/New_York:20230523T090000
DTEND;TZID=America/New_York:20230524T160000
DTSTAMP:20260420T150959
CREATED:20230215T142532Z
LAST-MODIFIED:20230922T143428Z
UID:1749-1684832400-1684944000@njbda.org
SUMMARY:Cyberinfrastructure for Research Data Management Workshop
DESCRIPTION:Princeton University\, Edge\, Globus\, and EPOC (TACC and ESnet\, partners of EPOC) are hosting the Cyberinfrastructure for Research Data Management workshop on the Princeton University campus this coming May 23-24\, 2023 starting daily at 9 a.m. The in-person workshop is designed to help research computing professionals deploy next-gen cyberinfrastructure that can effectively support data-intensive science. \n\n\n\nThe workshop will consist of two days of presentation material that focus on the concepts of the Science DMZ\, Data Management using Globus\, perfSONAR network measurement\, and other affiliated Research & Education best common practices that are designed to operate modern research and education networks to support data intensive science.  \n\n\n\nThe content is intended for anyone supporting infrastructure and/or developing applications for research and education\, and will be particularly useful to the following groups: \n\n\n\n\nNSF Campus Cyberinfrastructure awardees (and those preparing for the next CC* solicitation)\n\n\n\nResearch computing administrators and technical staff\n\n\n\nCampus enterprise storage infrastructure managers\n\n\n\nCore facility (NGS\, cryoEM\, fMRI\, etc.) IT staff\n\n\n\n\nOutcomes: By the end of the event\, attendees will have a better understanding of the requirements for supporting scientific use of the network\, architectural strategies that can simplify these interactions\, and tools that can transform and automate data management for researchers. \n\n\n\nEvent Details: \n\n\n\n\nDay 1: May 23\, 9 a.m. to 4 p.m.\n\n\n\nDay 2: May 24\, 9 a.m. to 4 p.m.\n\n\n\nCost: $49.00/person\n\n\n\nSpeakers and Full Agenda: Draft agenda and speaker list is now available online.\n\n\n\n\nPlease contact Forough Ghahramani at research@njedge.net if you need additional information.
URL:https://njbda.org/event/cyberinfrastructure-for-research-data-management/
LOCATION:New Jersey
CATEGORIES:workshops
ATTACH;FMTTYPE=image/png:https://njbda.org/wp-content/uploads/2023/02/Screen-Shot-2023-02-15-at-9.24.13-AM-e1676471302621.png
END:VEVENT
END:VCALENDAR