BEGIN:VCALENDAR
VERSION:2.0
PRODID:-//NJBDA - New Jersey Big Data Alliance - ECPv6.15.20//NONSGML v1.0//EN
CALSCALE:GREGORIAN
METHOD:PUBLISH
X-WR-CALNAME:NJBDA - New Jersey Big Data Alliance
X-ORIGINAL-URL:https://njbda.org
X-WR-CALDESC:Events for NJBDA - New Jersey Big Data Alliance
REFRESH-INTERVAL;VALUE=DURATION:PT1H
X-Robots-Tag:noindex
X-PUBLISHED-TTL:PT1H
BEGIN:VTIMEZONE
TZID:America/New_York
BEGIN:DAYLIGHT
TZOFFSETFROM:-0500
TZOFFSETTO:-0400
TZNAME:EDT
DTSTART:20230312T070000
END:DAYLIGHT
BEGIN:STANDARD
TZOFFSETFROM:-0400
TZOFFSETTO:-0500
TZNAME:EST
DTSTART:20231105T060000
END:STANDARD
BEGIN:DAYLIGHT
TZOFFSETFROM:-0500
TZOFFSETTO:-0400
TZNAME:EDT
DTSTART:20240310T070000
END:DAYLIGHT
BEGIN:STANDARD
TZOFFSETFROM:-0400
TZOFFSETTO:-0500
TZNAME:EST
DTSTART:20241103T060000
END:STANDARD
BEGIN:DAYLIGHT
TZOFFSETFROM:-0500
TZOFFSETTO:-0400
TZNAME:EDT
DTSTART:20250309T070000
END:DAYLIGHT
BEGIN:STANDARD
TZOFFSETFROM:-0400
TZOFFSETTO:-0500
TZNAME:EST
DTSTART:20251102T060000
END:STANDARD
END:VTIMEZONE
BEGIN:VEVENT
DTSTART;TZID=America/New_York:20240517T083000
DTEND;TZID=America/New_York:20240517T153000
DTSTAMP:20260419T205653
CREATED:20240129T180857Z
LAST-MODIFIED:20240412T174254Z
UID:2278-1715934600-1715959800@njbda.org
SUMMARY:2024 NJBDA Annual Symposium
DESCRIPTION:Artificial Intelligence Impacts on Society & Higher Education\n\n\n\n\n\nThe New Jersey Big Data Alliance (NJBDA) is an alliance of leading higher education institutions\, government organizations and industry members that catalyzes research and collaboration in advanced computing and data analytics\, education\, technology and artificial intelligence (AI). NJBDA’s annual symposium is New Jersey’s premier conference for big data\, advanced computing and AI\, consistently attracting hundreds of attendees from industry\, government\, and academia. \n\n\n\nThe 2024 NJBDA Symposium will be hosted by Rutgers Bloustein School and other collaborators at Rutgers University\, on Friday\, the 17th of May 2024 from 8:30 am to 3:30 pm. \n\n\n\nThe theme for the 2024 NJBDA symposium is ‘AI Impacts on Society & Higher Education’. The symposium will be a collaborative forum for information sharing\, networking\, research and discovery of opportunities and challenges for AI in society and higher education i.e. how will AI transform higher ed teaching and learning\, how can university leaders effectively leverage and manage AI\, AI misuse\, the expanding digital divide\, data bias and ethical implications. \n\n\n\nThe NJBDA is accepting research presentation abstracts until March 22\, 2024. Learn more and submit an abstract. \n\n\n\nSymposium agenda will be posted shortly at the 2024 Symposium page. \n\n\n\n\nRegister now
URL:https://njbda.org/event/2024-njbda-annual-symposium/
LOCATION:Douglass Student Center\, Rutgers University\, 100 George St\, New Brunswick\, New Jersey\, 08901\, United States
CATEGORIES:Annual Symposium
ATTACH;FMTTYPE=image/jpeg:https://njbda.org/wp-content/uploads/2024/01/bdai.jpeg
END:VEVENT
END:VCALENDAR